BEGIN:VCALENDAR
VERSION:2.0
PRODID:-//Valkealan Latu - ECPv6.0.10//NONSGML v1.0//EN
CALSCALE:GREGORIAN
METHOD:PUBLISH
X-ORIGINAL-URL:https://valkealanlatu.fi
X-WR-CALDESC:Tapahtumat Valkealan Latu
REFRESH-INTERVAL;VALUE=DURATION:PT1H
X-Robots-Tag:noindex
X-PUBLISHED-TTL:PT1H
BEGIN:VTIMEZONE
TZID:Europe/Helsinki
BEGIN:DAYLIGHT
TZOFFSETFROM:+0200
TZOFFSETTO:+0300
TZNAME:EEST
DTSTART:20170326T010000
END:DAYLIGHT
BEGIN:STANDARD
TZOFFSETFROM:+0300
TZOFFSETTO:+0200
TZNAME:EET
DTSTART:20171029T010000
END:STANDARD
END:VTIMEZONE
BEGIN:VEVENT
DTSTART;TZID=Europe/Helsinki:20170208T164500
DTEND;TZID=Europe/Helsinki:20170208T180000
DTSTAMP:20260426T043325
CREATED:20170119T220314Z
LAST-MODIFIED:20170119T223852Z
UID:530-1486572300-1486576800@valkealanlatu.fi
SUMMARY:Muumihiihtokoulu
DESCRIPTION:Hiihtokoulu lapsille Valkealan kirkonkylän urheilukentällä 7.-8.2.2017 klo 16:45-18:30 \nRyhmät:\nPikku-Myyt 4vuotta (ilman huoltajaa)\nMuumipeikot 5vuotta\nNipsut 6vuotta\nHiihtomaisterit 7-8vuotta\nLuistelutekniikka/Skicross 9-14vuotta \nHinnat:\n10€/ kaksi iltaa\n5€/ yksi ilta\n2€ sisaralennus\nHinnat sisältävät ohjauksen\, todistuksen ja merkit sekä pientä tarjoilua. \nHiihtokoulu alkaa molempina päivinä urheilukentän huoltorakennuksen sisältä ilmoittautumisen varmistamisena (=läsnäolijaksi ilmoittautuminen). Urheilukentälle pääset Valkealatalon parkkipaikalta tunnelin kautta kulkien. Huoltorakennus sijaitsee urheilukentän vieressä ja sisäänkäynti rakennukseen on tien puolelta. \nHiihtokouluun tullessa on hyvä nimikoida lapsen sukset ja sauvat selkeästi\, jotteivat ne sekoitu keskenään! \nTervetuloa hiihtokouluun!
URL:https://valkealanlatu.fi/tapahtumat/muumihiihtokoulu-2/
LOCATION:Valkealan kirkonkylän urheilukenttä\, Toikkalantie 5\, Valkeala\, Kymenlaakso\, 45370\, Suomi
CATEGORIES:Hiihto
END:VEVENT
END:VCALENDAR