BEGIN:VCALENDAR
VERSION:2.0
PRODID:-//Valkealan Latu - ECPv6.0.10//NONSGML v1.0//EN
CALSCALE:GREGORIAN
METHOD:PUBLISH
X-ORIGINAL-URL:https://valkealanlatu.fi
X-WR-CALDESC:Tapahtumat Valkealan Latu
REFRESH-INTERVAL;VALUE=DURATION:PT1H
X-Robots-Tag:noindex
X-PUBLISHED-TTL:PT1H
BEGIN:VTIMEZONE
TZID:Europe/Helsinki
BEGIN:DAYLIGHT
TZOFFSETFROM:+0200
TZOFFSETTO:+0300
TZNAME:EEST
DTSTART:20170326T010000
END:DAYLIGHT
BEGIN:STANDARD
TZOFFSETFROM:+0300
TZOFFSETTO:+0200
TZNAME:EET
DTSTART:20171029T010000
END:STANDARD
END:VTIMEZONE
BEGIN:VEVENT
DTSTART;TZID=Europe/Helsinki:20170211T083000
DTEND;TZID=Europe/Helsinki:20170211T160000
DTSTAMP:20260426T043350
CREATED:20170119T224336Z
LAST-MODIFIED:20170204T180002Z
UID:534-1486801800-1486828800@valkealanlatu.fi
SUMMARY:Lappalan lenkki (entinen Utin laturetki) LATURETKI ON PERUTTU!!
DESCRIPTION:Kouvolan Ladun kanssa yhteistyössä järjestämä perinteinen laturetki 11.-12.2.2017 (varapäivät 18.-19.2.2017) \nLähtö klo 8:30-12 ja paluu klo 16 mennessä \nLähtöpaikkoina: Urheilupuiston uimahalli\, Paaskosken maja\, Valkelan urheilukeskus ja Latupirtti \nReittivaihtoehtoja on useita. Pisin reitti kiertää Lappala-järven ympäri ja on noin 40km pitkä. \nOsallistumismaksut: 8€ aikuiset ja 3€ lapset alle 12vuotta. Osallistumismaksu sisältää vakuutuksen\, mehun\, kunniakirjan sekä palkintoarvntoihin osallistumisen
URL:https://valkealanlatu.fi/tapahtumat/lappalan-lenkki-entinen-utin-laturetki/
CATEGORIES:Hiihto
END:VEVENT
END:VCALENDAR