BEGIN:VCALENDAR
VERSION:2.0
PRODID:-//Valkealan Latu - ECPv6.0.10//NONSGML v1.0//EN
CALSCALE:GREGORIAN
METHOD:PUBLISH
X-ORIGINAL-URL:https://valkealanlatu.fi
X-WR-CALDESC:Tapahtumat Valkealan Latu
REFRESH-INTERVAL;VALUE=DURATION:PT1H
X-Robots-Tag:noindex
X-PUBLISHED-TTL:PT1H
BEGIN:VTIMEZONE
TZID:Europe/Helsinki
BEGIN:DAYLIGHT
TZOFFSETFROM:+0200
TZOFFSETTO:+0300
TZNAME:EEST
DTSTART:20170326T010000
END:DAYLIGHT
BEGIN:STANDARD
TZOFFSETFROM:+0300
TZOFFSETTO:+0200
TZNAME:EET
DTSTART:20171029T010000
END:STANDARD
END:VTIMEZONE
BEGIN:VEVENT
DTSTART;TZID=Europe/Helsinki:20170214T180000
DTEND;TZID=Europe/Helsinki:20170214T190000
DTSTAMP:20260426T043350
CREATED:20170119T224738Z
LAST-MODIFIED:20170119T225009Z
UID:539-1487095200-1487098800@valkealanlatu.fi
SUMMARY:Venytellen vetreäksi -liikuntaryhmä
DESCRIPTION:Valkealan Latu ry;n järjestämä Venytellen vetreäksi -liikuntaryhmä kokoontuu kerran viikossa tiistaisin klo 18-19 Valkealan urheilukentän huoltorakennuksessa. Kevään 2017 jumppa toteutuu sisätiloissa\, joten mukaan tarvitset jumppaan soveltuvat joustavat vaatteet\, tossut tai sisäliikuntaan soveltuvat kengät sekä juomapullon. Ryhmän ohjaajina toimivat Sari Haimi ja Tuija Puustinen. \nKevätkauden ensimmäinen jumppa on 10.1. ja viimeinen kerta on 4.4.\n7.2. ryhmäläisillä on mahdollisuus osallistua lasten Muumihiihtokouluun avustajan tehtävissä\nSyyslomaviikolla eli viikolla 9 ryhmä ei kokoonnu. \nLisätietoja ryhmästä antaa Sari Haimi (p.040 085 1620) tai Tuija Puustinen (p. 050 350 0613) \nTervetuloa mukaan ryhmään!
URL:https://valkealanlatu.fi/tapahtumat/venytellen-vetreaksi-liikuntaryhma-2/
LOCATION:Valkealan kirkonkylän urheilukentän huoltorakennus\, Toikkalantie 5\, Valkeala\, Kymenlaakso\, 45370\, Suomi
CATEGORIES:Jumppa
END:VEVENT
END:VCALENDAR