BEGIN:VCALENDAR
VERSION:2.0
PRODID:-//Valkealan Latu - ECPv6.0.10//NONSGML v1.0//EN
CALSCALE:GREGORIAN
METHOD:PUBLISH
X-WR-CALNAME:Valkealan Latu
X-ORIGINAL-URL:https://valkealanlatu.fi
X-WR-CALDESC:Tapahtumat Valkealan Latu
REFRESH-INTERVAL;VALUE=DURATION:PT1H
X-Robots-Tag:noindex
X-PUBLISHED-TTL:PT1H
BEGIN:VTIMEZONE
TZID:Europe/Helsinki
BEGIN:DAYLIGHT
TZOFFSETFROM:+0200
TZOFFSETTO:+0300
TZNAME:EEST
DTSTART:20170326T010000
END:DAYLIGHT
BEGIN:STANDARD
TZOFFSETFROM:+0300
TZOFFSETTO:+0200
TZNAME:EET
DTSTART:20171029T010000
END:STANDARD
END:VTIMEZONE
BEGIN:VEVENT
DTSTART;TZID=Europe/Helsinki:20170218T100000
DTEND;TZID=Europe/Helsinki:20170218T140000
DTSTAMP:20260426T043100
CREATED:20170119T230056Z
LAST-MODIFIED:20170214T190643Z
UID:561-1487412000-1487426400@valkealanlatu.fi
SUMMARY:Lapsiperheiden ulkoilupäivä
DESCRIPTION:Perheiden yhteinen ulkoilutapahtuma Harjunmäen laavulla Valkealassa 18.2.2017 klo 10-14. \nOhjelmassa on hiihtoa ja mäenlaskua (sää varauksella) sekä mukavaa yhdessä oloa. Ohjelma ei ole ohjattua toimintaa. \nTapahtuma on maksuton ja kaikille avoin! \nPientä maksua vastaan laavulta on mahdollisuus ostaa mehua\, nokipannukahvia ja makkaraa. \nTervetuloa mukaan perheet!
URL:https://valkealanlatu.fi/tapahtumat/lapsiperheiden-ulkoilupaiva/
LOCATION:Valkealan Harjunmäen laavu\, 60.939140\, 26.815592
CATEGORIES:Perheliikunta
END:VEVENT
END:VCALENDAR