BEGIN:VCALENDAR
VERSION:2.0
PRODID:-//Valkealan Latu - ECPv6.0.10//NONSGML v1.0//EN
CALSCALE:GREGORIAN
METHOD:PUBLISH
X-WR-CALNAME:Valkealan Latu
X-ORIGINAL-URL:https://valkealanlatu.fi
X-WR-CALDESC:Tapahtumat Valkealan Latu
REFRESH-INTERVAL;VALUE=DURATION:PT1H
X-Robots-Tag:noindex
X-PUBLISHED-TTL:PT1H
BEGIN:VTIMEZONE
TZID:Europe/Helsinki
BEGIN:DAYLIGHT
TZOFFSETFROM:+0200
TZOFFSETTO:+0300
TZNAME:EEST
DTSTART:20170326T010000
END:DAYLIGHT
BEGIN:STANDARD
TZOFFSETFROM:+0300
TZOFFSETTO:+0200
TZNAME:EET
DTSTART:20171029T010000
END:STANDARD
END:VTIMEZONE
BEGIN:VEVENT
DTSTART;TZID=Europe/Helsinki:20170225T090000
DTEND;TZID=Europe/Helsinki:20170225T090000
DTSTAMP:20260426T043107
CREATED:20170119T231844Z
LAST-MODIFIED:20170119T231844Z
UID:568-1488013200-1488013200@valkealanlatu.fi
SUMMARY:XVII Repoveden ulkoilu- ja elämyspäivät
DESCRIPTION:Perjantai yrityspäivä ja myös muille liikkujille\, lauantaina ja sunnuntaina hiihtäjille\, lumikenkäilijöille ja muille ulkoilijoille\, kaikille perheen jäsenille. Koiravaljakko\, poniajelua\, lumizumbaa ja paljon muuta. Myös Pókemonit saapuu Orilammelle. Seuraa lehti-ilmoittelua.
URL:https://valkealanlatu.fi/tapahtumat/xvii-repoveden-ulkoilu-ja-elamyspaivat-2/
LOCATION:Orilammen Lomakeskus ja Saarijärvi\, Voikoskentie 138\, Hillosensalmi\, Kymenlaakso\, 47910
CATEGORIES:Perheliikunta
END:VEVENT
END:VCALENDAR