BEGIN:VCALENDAR
VERSION:2.0
PRODID:-//Valkealan Latu - ECPv6.0.10//NONSGML v1.0//EN
CALSCALE:GREGORIAN
METHOD:PUBLISH
X-WR-CALNAME:Valkealan Latu
X-ORIGINAL-URL:https://valkealanlatu.fi
X-WR-CALDESC:Tapahtumat Valkealan Latu
REFRESH-INTERVAL;VALUE=DURATION:PT1H
X-Robots-Tag:noindex
X-PUBLISHED-TTL:PT1H
BEGIN:VTIMEZONE
TZID:Europe/Helsinki
BEGIN:DAYLIGHT
TZOFFSETFROM:+0200
TZOFFSETTO:+0300
TZNAME:EEST
DTSTART:20170326T010000
END:DAYLIGHT
BEGIN:STANDARD
TZOFFSETFROM:+0300
TZOFFSETTO:+0200
TZNAME:EET
DTSTART:20171029T010000
END:STANDARD
END:VTIMEZONE
BEGIN:VEVENT
DTSTART;TZID=Europe/Helsinki:20170401T100000
DTEND;TZID=Europe/Helsinki:20170401T140000
DTSTAMP:20260426T010136
CREATED:20170204T181311Z
LAST-MODIFIED:20170204T181311Z
UID:643-1491040800-1491055200@valkealanlatu.fi
SUMMARY:Lastentoiminnan aluetapaaminen
DESCRIPTION:Tervetuloa lastentoiminnan aluetapaamiseen Kouvolan Ladun Latupirtille 1.4.2017 klo 10-14. Ohjelmassa lastentoiminnan koulutusta. Yhdessä kokoamme yhteen hyvät ideat ja tavat saada perheet ja lapset liikkeelle. \n  \n 
URL:https://valkealanlatu.fi/tapahtumat/lastentoiminnan-aluetapaaminen/
LOCATION:Hautalantie 250\, Valkeala\, Hautalantie 250\, Kouvola\, Suomi
END:VEVENT
END:VCALENDAR