BEGIN:VCALENDAR
VERSION:2.0
PRODID:-//Valkealan Latu - ECPv6.0.10//NONSGML v1.0//EN
CALSCALE:GREGORIAN
METHOD:PUBLISH
X-WR-CALNAME:Valkealan Latu
X-ORIGINAL-URL:https://valkealanlatu.fi
X-WR-CALDESC:Tapahtumat Valkealan Latu
REFRESH-INTERVAL;VALUE=DURATION:PT1H
X-Robots-Tag:noindex
X-PUBLISHED-TTL:PT1H
BEGIN:VTIMEZONE
TZID:Europe/Helsinki
BEGIN:DAYLIGHT
TZOFFSETFROM:+0200
TZOFFSETTO:+0300
TZNAME:EEST
DTSTART:20170326T010000
END:DAYLIGHT
BEGIN:STANDARD
TZOFFSETFROM:+0300
TZOFFSETTO:+0200
TZNAME:EET
DTSTART:20171029T010000
END:STANDARD
END:VTIMEZONE
BEGIN:VEVENT
DTSTART;TZID=Europe/Helsinki:20170525T113000
DTEND;TZID=Europe/Helsinki:20170525T150000
DTSTAMP:20260425T225610
CREATED:20170406T181327Z
LAST-MODIFIED:20170406T181327Z
UID:740-1495711800-1495724400@valkealanlatu.fi
SUMMARY:Kiitos -tilaisuus talkoolaisille
DESCRIPTION:Orilammen Maja järjestää yhdessä Valkealan Latu ry:n kanssa Kiitos -tilaisuuden 25.5.2017 Repoveden ulkoilu- ja elämyspäivien talkoolaisille. \nOhjelmassa: klo 11:30 ruokailu (oma kustanteinen)\, klo 13-15 Kultareitti -risteily (Orilammen Maja tarjoaa) ja risteilyn jälkeen on mahdollisuus nautiskella päiväkahvista (oma kustanteinen). \nIlmoittautuminen omalle talkoo yhteyshenkilölle 4.5. mennessä \nTervetuloa talkoolaiset! \n 
URL:https://valkealanlatu.fi/tapahtumat/kiitos-tilaisuus-talkoolaisille/
LOCATION:Orilammen Maja\, Voikoskentie 138\, Kouvola\, Hillosensalmi\, 47910\, Suomi
END:VEVENT
END:VCALENDAR