BEGIN:VCALENDAR
VERSION:2.0
PRODID:-//Valkealan Latu - ECPv6.0.10//NONSGML v1.0//EN
CALSCALE:GREGORIAN
METHOD:PUBLISH
X-ORIGINAL-URL:https://valkealanlatu.fi
X-WR-CALDESC:Tapahtumat Valkealan Latu
REFRESH-INTERVAL;VALUE=DURATION:PT1H
X-Robots-Tag:noindex
X-PUBLISHED-TTL:PT1H
BEGIN:VTIMEZONE
TZID:Europe/Helsinki
BEGIN:DAYLIGHT
TZOFFSETFROM:+0200
TZOFFSETTO:+0300
TZNAME:EEST
DTSTART:20170326T010000
END:DAYLIGHT
BEGIN:STANDARD
TZOFFSETFROM:+0300
TZOFFSETTO:+0200
TZNAME:EET
DTSTART:20171029T010000
END:STANDARD
END:VTIMEZONE
BEGIN:VEVENT
DTSTART;TZID=Europe/Helsinki:20170728T100000
DTEND;TZID=Europe/Helsinki:20170729T140000
DTSTAMP:20260425T192232
CREATED:20170204T183418Z
LAST-MODIFIED:20170204T183418Z
UID:647-1501236000-1501336800@valkealanlatu.fi
SUMMARY:KymiVuoksi latualueen Kesäpäivät
DESCRIPTION:Tervetuloa KymiVuoksi latualueen Kesäpäiville Heinlahden leirikeskukseen Iittiin 28.-29.7.2017. Kesäpäivät alkavat lauantaina klo 10 ja päättyvät sunnuntaina klo 14. Kesäpäiville voi tulla käymään myös päiväseltään. \n  \n 
URL:https://valkealanlatu.fi/tapahtumat/kymivuoksi-latualueen-kesapaivat/
LOCATION:Heinlahdentie 154\, 47520 Iitti\, Heinlahdentie 154\, Suomi
END:VEVENT
END:VCALENDAR