BEGIN:VCALENDAR
VERSION:2.0
PRODID:-//Valkealan Latu - ECPv6.0.10//NONSGML v1.0//EN
CALSCALE:GREGORIAN
METHOD:PUBLISH
X-ORIGINAL-URL:https://valkealanlatu.fi
X-WR-CALDESC:Tapahtumat Valkealan Latu
REFRESH-INTERVAL;VALUE=DURATION:PT1H
X-Robots-Tag:noindex
X-PUBLISHED-TTL:PT1H
BEGIN:VTIMEZONE
TZID:Europe/Helsinki
BEGIN:DAYLIGHT
TZOFFSETFROM:+0200
TZOFFSETTO:+0300
TZNAME:EEST
DTSTART:20170326T010000
END:DAYLIGHT
BEGIN:STANDARD
TZOFFSETFROM:+0300
TZOFFSETTO:+0200
TZNAME:EET
DTSTART:20171029T010000
END:STANDARD
END:VTIMEZONE
BEGIN:VEVENT
DTSTART;TZID=Europe/Helsinki:20170919T180000
DTEND;TZID=Europe/Helsinki:20170919T190000
DTSTAMP:20260425T155452
CREATED:20170821T134252Z
LAST-MODIFIED:20170821T134252Z
UID:785-1505844000-1505847600@valkealanlatu.fi
SUMMARY:Venytellen vetreäksi -jumpparyhmä
DESCRIPTION:Venytellen vetreäksi -jumpparyhmä kokoontuu joka tiistai klo 18-19. Syyskuussa ohjelmassa on ulkoliikuntaa.  19.9. frisbeegolf.  3.10. on viimeinen ulkoliikunta kerta. Tämän jälkeen siirrytään Valkealan urheilukentän huoltorakennukselle ja aloitetaan sisäliikuntakausi. \nTervetuloa mukaan!
URL:https://valkealanlatu.fi/tapahtumat/venytellen-vetreaksi-jumpparyhma-3/
CATEGORIES:Jumppa
END:VEVENT
END:VCALENDAR