BEGIN:VCALENDAR
VERSION:2.0
PRODID:-//Valkealan Latu - ECPv6.0.10//NONSGML v1.0//EN
CALSCALE:GREGORIAN
METHOD:PUBLISH
X-ORIGINAL-URL:https://valkealanlatu.fi
X-WR-CALDESC:Tapahtumat Valkealan Latu
REFRESH-INTERVAL;VALUE=DURATION:PT1H
X-Robots-Tag:noindex
X-PUBLISHED-TTL:PT1H
BEGIN:VTIMEZONE
TZID:Europe/Helsinki
BEGIN:DAYLIGHT
TZOFFSETFROM:+0200
TZOFFSETTO:+0300
TZNAME:EEST
DTSTART:20190331T010000
END:DAYLIGHT
BEGIN:STANDARD
TZOFFSETFROM:+0300
TZOFFSETTO:+0200
TZNAME:EET
DTSTART:20191027T010000
END:STANDARD
END:VTIMEZONE
BEGIN:VEVENT
DTSTART;TZID=Europe/Helsinki:20190112T150000
DTEND;TZID=Europe/Helsinki:20190112T180000
DTSTAMP:20260424T123643
CREATED:20181213T194436Z
LAST-MODIFIED:20181213T194436Z
UID:1016-1547305200-1547316000@valkealanlatu.fi
SUMMARY:Kauden päättäjäiset
DESCRIPTION:Valkealan Latu ry:n kauden päättäjäiset järjestetään 12.1. klo 15 alkaen Valkealan Nuorisoseurantalolla. Ohjelmassa ruokailu ja kahvit sekä pientä ajanvietettä. Ruokailun omavastuu aikuiselta 10€ ja lapselta 5€ (alle 4v ilmainen). Omavastuu kerätään ovella. Ilmoittautumiset 30.12. mennessä Leena Ravantille p. 040 522 5740. Tervetuloa jäsenet!
URL:https://valkealanlatu.fi/tapahtumat/kauden-paattajaiset/
LOCATION:Valkealan Nuorisoseurantalo\, Kalevantie 8\, 45370 Valkeala\, Valkeala\, 45370\, Suomi
END:VEVENT
END:VCALENDAR