BEGIN:VCALENDAR
VERSION:2.0
PRODID:-//Valkealan Latu - ECPv6.0.10//NONSGML v1.0//EN
CALSCALE:GREGORIAN
METHOD:PUBLISH
X-ORIGINAL-URL:https://valkealanlatu.fi
X-WR-CALDESC:Tapahtumat Valkealan Latu
REFRESH-INTERVAL;VALUE=DURATION:PT1H
X-Robots-Tag:noindex
X-PUBLISHED-TTL:PT1H
BEGIN:VTIMEZONE
TZID:Europe/Helsinki
BEGIN:DAYLIGHT
TZOFFSETFROM:+0200
TZOFFSETTO:+0300
TZNAME:EEST
DTSTART:20170326T010000
END:DAYLIGHT
BEGIN:STANDARD
TZOFFSETFROM:+0300
TZOFFSETTO:+0200
TZNAME:EET
DTSTART:20171029T010000
END:STANDARD
END:VTIMEZONE
BEGIN:VEVENT
DTSTART;TZID=Europe/Helsinki:20170307T180000
DTEND;TZID=Europe/Helsinki:20170307T190000
DTSTAMP:20260426T010550
CREATED:20170119T225225Z
LAST-MODIFIED:20170119T225225Z
UID:549-1488909600-1488913200@valkealanlatu.fi
SUMMARY:Venytellen vetreäksi -liikuntaryhmä
DESCRIPTION:Valkealan Latu ry;n järjestämä Venytellen vetreäksi -liikuntaryhmä kokoontuu kerran viikossa tiistaisin klo 18-19 Valkealan urheilukentän huoltorakennuksessa. Kevään 2017 jumppa toteutuu sisätiloissa\, joten mukaan tarvitset jumppaan soveltuvat joustavat vaatteet\, tossut tai sisäliikuntaan soveltuvat kengät sekä juomapullon. Ryhmän ohjaajina toimivat Sari Haimi ja Tuija Puustinen. \nKevätkauden ensimmäinen jumppa on 10.1. ja viimeinen kerta on 4.4.\n7.2. ryhmäläisillä on mahdollisuus osallistua lasten Muumihiihtokouluun avustajan tehtävissä\nSyyslomaviikolla eli viikolla 9 ryhmä ei kokoonnu. \nLisätietoja ryhmästä antaa Sari Haimi (p.040 085 1620) tai Tuija Puustinen (p. 050 350 0613) \nTervetuloa mukaan ryhmään!
URL:https://valkealanlatu.fi/tapahtumat/venytellen-vetreaksi-liikuntaryhma-4/
LOCATION:Valkealan kirkonkylän urheilukentän huoltorakennus\, Toikkalantie 5\, Valkeala\, Kymenlaakso\, 45370\, Suomi
CATEGORIES:Jumppa
END:VEVENT
BEGIN:VEVENT
DTSTART;TZID=Europe/Helsinki:20170311T100000
DTEND;TZID=Europe/Helsinki:20170311T100000
DTSTAMP:20260426T010550
CREATED:20170119T232309Z
LAST-MODIFIED:20170204T175911Z
UID:572-1489226400-1489226400@valkealanlatu.fi
SUMMARY:Pilkkikilpailut
DESCRIPTION:Valkealan Ladun ja Eläkeliiton Valkealan yhdistyksen välinen pilkkikilpailu\, joka järjestetään Valkealan Haukkajärvellä 11.3.2017. \nTapahtuma on suunnattu koko perheen tapahtumaksi! Tarjolla maksua vastaan pientä purtavaa! \nSeuraa ilmoittelua paikallislehtien järjestöpalstalla sekä Valkealan Ladun kotisivuilla! \nTervetuloa kaikki jäsenet mukaan kisaan ja kannustamaan Valkealan Latu voittoon!
URL:https://valkealanlatu.fi/tapahtumat/pilkkikilpailut/
LOCATION:Haukkajärvi\, Haukkajärvi\, Kouvola\, Kymenlaakso\, 45410
CATEGORIES:Pilkki
END:VEVENT
BEGIN:VEVENT
DTSTART;TZID=Europe/Helsinki:20170314T180000
DTEND;TZID=Europe/Helsinki:20170314T190000
DTSTAMP:20260426T010550
CREATED:20170119T225320Z
LAST-MODIFIED:20170119T225630Z
UID:552-1489514400-1489518000@valkealanlatu.fi
SUMMARY:Venytellen vetreäksi -liikuntaryhmä
DESCRIPTION:Valkealan Latu ry;n järjestämä Venytellen vetreäksi -liikuntaryhmä kokoontuu kerran viikossa tiistaisin klo 18-19 Valkealan urheilukentän huoltorakennuksessa. Kevään 2017 jumppa toteutuu sisätiloissa\, joten mukaan tarvitset jumppaan soveltuvat joustavat vaatteet\, tossut tai sisäliikuntaan soveltuvat kengät sekä juomapullon. Ryhmän ohjaajina toimivat Sari Haimi ja Tuija Puustinen. \nKevätkauden ensimmäinen jumppa on 10.1. ja viimeinen kerta on 4.4.\n7.2. ryhmäläisillä on mahdollisuus osallistua lasten Muumihiihtokouluun avustajan tehtävissä\nSyyslomaviikolla eli viikolla 9 ryhmä ei kokoonnu. \nLisätietoja ryhmästä antaa Sari Haimi (p.040 085 1620) tai Tuija Puustinen (p. 050 350 0613) \nTervetuloa mukaan ryhmään!
URL:https://valkealanlatu.fi/tapahtumat/venytellen-vetreaksi-liikuntaryhma-5/
LOCATION:Valkealan kirkonkylän urheilukentän huoltorakennus\, Toikkalantie 5\, Valkeala\, Kymenlaakso\, 45370\, Suomi
CATEGORIES:Jumppa
END:VEVENT
BEGIN:VEVENT
DTSTART;TZID=Europe/Helsinki:20170318T110000
DTEND;TZID=Europe/Helsinki:20170318T150000
DTSTAMP:20260426T010550
CREATED:20170131T192323Z
LAST-MODIFIED:20170204T221538Z
UID:623-1489834800-1489849200@valkealanlatu.fi
SUMMARY:KymiVuoksi latualueen kevät tapaaminen
DESCRIPTION:Tervetuloa KymiVuoksi latualueen kevät tapaamiseen 18.3.2017 klo 11-15 Ollin majalle Imatralle. Ohjelmassa lumikenkä-/ kävelyretki sekä muuta yhteistoimintaa. Majalla on mahdollisuus keittoruokailuun.
URL:https://valkealanlatu.fi/tapahtumat/kymivuoksi-latualueen-kevat-tapaaminen/
LOCATION:Kurkisuontie 262\, 55100 Imatra\, Kurkisuontie 262\, Imatra\, 55100\, Suomi
CATEGORIES:Perheliikunta
END:VEVENT
BEGIN:VEVENT
DTSTART;TZID=Europe/Helsinki:20170321T180000
DTEND;TZID=Europe/Helsinki:20170321T190000
DTSTAMP:20260426T010550
CREATED:20170119T225428Z
LAST-MODIFIED:20170119T225428Z
UID:554-1490119200-1490122800@valkealanlatu.fi
SUMMARY:Venytellen vetreäksi -liikuntaryhmä
DESCRIPTION:Valkealan Latu ry;n järjestämä Venytellen vetreäksi -liikuntaryhmä kokoontuu kerran viikossa tiistaisin klo 18-19 Valkealan urheilukentän huoltorakennuksessa. Kevään 2017 jumppa toteutuu sisätiloissa\, joten mukaan tarvitset jumppaan soveltuvat joustavat vaatteet\, tossut tai sisäliikuntaan soveltuvat kengät sekä juomapullon. Ryhmän ohjaajina toimivat Sari Haimi ja Tuija Puustinen. \nKevätkauden ensimmäinen jumppa on 10.1. ja viimeinen kerta on 4.4.\n7.2. ryhmäläisillä on mahdollisuus osallistua lasten Muumihiihtokouluun avustajan tehtävissä\nSyyslomaviikolla eli viikolla 9 ryhmä ei kokoonnu. \nLisätietoja ryhmästä antaa Sari Haimi (p.040 085 1620) tai Tuija Puustinen (p. 050 350 0613) \nTervetuloa mukaan ryhmään!
URL:https://valkealanlatu.fi/tapahtumat/venytellen-vetreaksi-liikuntaryhma-6/
LOCATION:Valkealan kirkonkylän urheilukentän huoltorakennus\, Toikkalantie 5\, Valkeala\, Kymenlaakso\, 45370\, Suomi
CATEGORIES:Jumppa
END:VEVENT
BEGIN:VEVENT
DTSTART;TZID=Europe/Helsinki:20170328T180000
DTEND;TZID=Europe/Helsinki:20170328T190000
DTSTAMP:20260426T010550
CREATED:20170119T225514Z
LAST-MODIFIED:20170119T225514Z
UID:556-1490724000-1490727600@valkealanlatu.fi
SUMMARY:Venytellen vetreäksi -liikuntaryhmä
DESCRIPTION:Valkealan Latu ry;n järjestämä Venytellen vetreäksi -liikuntaryhmä kokoontuu kerran viikossa tiistaisin klo 18-19 Valkealan urheilukentän huoltorakennuksessa. Kevään 2017 jumppa toteutuu sisätiloissa\, joten mukaan tarvitset jumppaan soveltuvat joustavat vaatteet\, tossut tai sisäliikuntaan soveltuvat kengät sekä juomapullon. Ryhmän ohjaajina toimivat Sari Haimi ja Tuija Puustinen. \nKevätkauden ensimmäinen jumppa on 10.1. ja viimeinen kerta on 4.4.\n7.2. ryhmäläisillä on mahdollisuus osallistua lasten Muumihiihtokouluun avustajan tehtävissä\nSyyslomaviikolla eli viikolla 9 ryhmä ei kokoonnu. \nLisätietoja ryhmästä antaa Sari Haimi (p.040 085 1620) tai Tuija Puustinen (p. 050 350 0613) \nTervetuloa mukaan ryhmään!
URL:https://valkealanlatu.fi/tapahtumat/venytellen-vetreaksi-liikuntaryhma-7/
LOCATION:Valkealan kirkonkylän urheilukentän huoltorakennus\, Toikkalantie 5\, Valkeala\, Kymenlaakso\, 45370\, Suomi
CATEGORIES:Jumppa
END:VEVENT
END:VCALENDAR