BEGIN:VCALENDAR
VERSION:2.0
PRODID:-//Valkealan Latu - ECPv6.0.10//NONSGML v1.0//EN
CALSCALE:GREGORIAN
METHOD:PUBLISH
X-WR-CALNAME:Valkealan Latu
X-ORIGINAL-URL:https://valkealanlatu.fi
X-WR-CALDESC:Tapahtumat Valkealan Latu
REFRESH-INTERVAL;VALUE=DURATION:PT1H
X-Robots-Tag:noindex
X-PUBLISHED-TTL:PT1H
BEGIN:VTIMEZONE
TZID:Europe/Helsinki
BEGIN:DAYLIGHT
TZOFFSETFROM:+0200
TZOFFSETTO:+0300
TZNAME:EEST
DTSTART:20180325T010000
END:DAYLIGHT
BEGIN:STANDARD
TZOFFSETFROM:+0300
TZOFFSETTO:+0200
TZNAME:EET
DTSTART:20181028T010000
END:STANDARD
END:VTIMEZONE
BEGIN:VEVENT
DTSTART;TZID=Europe/Helsinki:20180206T164500
DTEND;TZID=Europe/Helsinki:20180207T183000
DTSTAMP:20260425T053717
CREATED:20171220T211817Z
LAST-MODIFIED:20180114T165331Z
UID:845-1517935500-1518028200@valkealanlatu.fi
SUMMARY:Muumi- hiihtokoulu ja aikuisten hiihtokoulu
DESCRIPTION:Valkealan Latu ry järjestää yhdessä Valkealan Kajon kanssa Muumien hiihtokoulun lapsille ja aikuisten hiihtokoulun 6.-7.2.2018 klo 16:45-18:30 Valkealan kirkonkylän urheilukentällä. Säävaraus: Mikäli pakkasta on yli 17 astetta\, peruuntuu hiihtokoulu. \n  \nRyhmät: \nPikku-Myyt 4 vuotta (ilman huoltajaa) \nMuumipeikot 5 vuotta \nNipsut 6 vuotta \nHiihtomaisterit 7-8 vuotta \nLuistelutekniikka/ Skicross 9-14 vuotta \n  \nHinta: 10 € kaksi iltaa\, sisaralennus 2€   ja   5€ yksi ilta \nHintaan sisältyy hiihdon ohjaus\, todistus ja mehutarjoilu. \n  \nMuumihiihtokoulun vastaavana ohjaajana toimii Maria Rimpiläinen. \n  \nAikuisten hiihtokoulun ohjauksesta vastaa Valkealan Kajon hiihtojaosto. Hiihtokoulun aiheena on perinteinen ja luisteluhiihto. Aikuisten hiihtokoulun hinta on 10€ kaksi iltaa ja 5€ yksi ilta. \n  \nIlmoittautumiset hiihtokouluihin 28.1. mennessä SOITTAMALLA Leena Ravantille p. 040 522 5740. \n  \nMuumien hiihtokoulu esite
URL:https://valkealanlatu.fi/tapahtumat/muumi-hiihtokoulu-ja-aikuisten-hiihtokoulu/
LOCATION:Valkealan kirkonkylän urheilukenttä\, Toikkalantie 5\, Valkeala\, Kymenlaakso\, 45370\, Suomi
CATEGORIES:Hiihto,Lasten toiminta,Perheliikunta
END:VEVENT
BEGIN:VEVENT
DTSTART;TZID=Europe/Helsinki:20180213T180000
DTEND;TZID=Europe/Helsinki:20180213T190000
DTSTAMP:20260425T053717
CREATED:20180106T180224Z
LAST-MODIFIED:20180106T180224Z
UID:872-1518544800-1518548400@valkealanlatu.fi
SUMMARY:Venytellen vetreäksi -jumpparyhmä
DESCRIPTION:Venytellen vetreäksi -jumpparyhmä kokoontuu joka tiistai klo 18-19 Valkealan urheilukentän huoltorakennuksella. \nLisätietoja/ tiedustelut: Sari Haimi p. 040 085 1620 tai Tuija Puustinen p. 050 350 0613. \nTervetuloa mukaan!
URL:https://valkealanlatu.fi/tapahtumat/venytellen-vetreaksi-jumpparyhma-21/
LOCATION:Valkealan kirkonkylän urheilukentän huoltorakennus\, Toikkalantie 5\, Valkeala\, Kymenlaakso\, 45370\, Suomi
CATEGORIES:Jumppa
END:VEVENT
BEGIN:VEVENT
DTSTART;TZID=Europe/Helsinki:20180217T100000
DTEND;TZID=Europe/Helsinki:20180217T130000
DTSTAMP:20260425T053717
CREATED:20171031T200546Z
LAST-MODIFIED:20180114T165139Z
UID:840-1518861600-1518872400@valkealanlatu.fi
SUMMARY:Lapsiperheiden ulkoilupäivä
DESCRIPTION:Valkealan Latu ry järjestää Lapsiperheiden ulkoilupäivän 17.2.2018 klo 10-13 Harjunmäen laavulla. Ohjelmassa on hiihtoa ja mäenlaskua (säävarauksella). Pientä maksua vastaan laavulta on mahdollisuus ostaa mehua\, nokipannukahvia ja makkaraa. Tapahtuma on maksuton ja avoin kaikille. Tervetuloa joukolla kaikki mukaan liikkumaan! \n 
URL:https://valkealanlatu.fi/tapahtumat/lapsiperheiden-ulkoilupaiva-2/
CATEGORIES:Perheliikunta
END:VEVENT
BEGIN:VEVENT
DTSTART;TZID=Europe/Helsinki:20180220T180000
DTEND;TZID=Europe/Helsinki:20180220T190000
DTSTAMP:20260425T053717
CREATED:20180106T180614Z
LAST-MODIFIED:20180106T180719Z
UID:874-1519149600-1519153200@valkealanlatu.fi
SUMMARY:Venytellen vetreäksi -jumpparyhmä
DESCRIPTION:Venytellen vetreäksi -jumpparyhmä kokoontuu joka tiistai klo 18-19 Valkealan urheilukentän huoltorakennuksella. \nLisätietoja/ tiedustelut: Sari Haimi p. 040 085 1620 tai Tuija Puustinen p. 050 350 0613. \nTervetuloa mukaan!
URL:https://valkealanlatu.fi/tapahtumat/venytellen-vetreaksi-jumpparyhma-22/
LOCATION:Valkealan kirkonkylän urheilukentän huoltorakennus\, Toikkalantie 5\, Valkeala\, Kymenlaakso\, 45370\, Suomi
CATEGORIES:Jumppa
END:VEVENT
BEGIN:VEVENT
DTSTART;TZID=Europe/Helsinki:20180223T090000
DTEND;TZID=Europe/Helsinki:20180225T150000
DTSTAMP:20260425T053717
CREATED:20171031T194900Z
LAST-MODIFIED:20180105T151854Z
UID:836-1519376400-1519570800@valkealanlatu.fi
SUMMARY:Repoveden ulkoilu- ja elämyspäivät
DESCRIPTION:Valkealan Latu ry järjestää Repoveden ulkoilu- ja elämyspäivät 23.-25.2.2018 useiden yhteistyötahojen kanssa. Tapahtumassa on tarjolla paljon erilaisia aktiviteetteja muun muassa erämaahiihtoa\, lumikenkäilyä\, pilkintää ja Lavista. Lapset ovat huomioitu tapahtumassa erilaisin toimintapistein. Tapahtuma soveltuu kaikille. Tapahtumassa on oiva mahdollisuus viettää tyhy-päivää työporukan kesken. \nTervetuloa mukaan liikkumaan luonnon helmassa! \nTarkempia tietoja tapahtuman ohjelmasisällöstä päivitetään sivuille lähempänä ajankohtana. \nTiedustelut: Lea Aalto p. 040 519 8252 \n  \nRepoveden ulkoilu- ja elämyspäivät esite 2018
URL:https://valkealanlatu.fi/tapahtumat/repoveden-ulkoilu-ja-elamyspaivat/
LOCATION:Orilammen Maja\, Voikoskentie 138\, Kouvola\, Hillosensalmi\, 47910\, Suomi
CATEGORIES:Hiihto,Jumppa,Perheliikunta,Pilkki
END:VEVENT
BEGIN:VEVENT
DTSTART;TZID=Europe/Helsinki:20180227T180000
DTEND;TZID=Europe/Helsinki:20180227T190000
DTSTAMP:20260425T053717
CREATED:20180106T181055Z
LAST-MODIFIED:20180106T181055Z
UID:876-1519754400-1519758000@valkealanlatu.fi
SUMMARY:Venytellen vetreäksi -jumpparyhmä
DESCRIPTION:Venytellen vetreäksi -jumpparyhmä kokoontuu joka tiistai klo 18-19 Valkealan urheilukentän huoltorakennuksella. \nLisätietoja/ tiedustelut: Sari Haimi p. 040 085 1620 tai Tuija Puustinen p. 050 350 0613. \nTervetuloa mukaan!
URL:https://valkealanlatu.fi/tapahtumat/venytellen-vetreaksi-jumpparyhma-23/
LOCATION:Valkealan kirkonkylän urheilukentän huoltorakennus\, Toikkalantie 5\, Valkeala\, Kymenlaakso\, 45370\, Suomi
CATEGORIES:Jumppa
END:VEVENT
END:VCALENDAR