BEGIN:VCALENDAR
VERSION:2.0
PRODID:-//Valkealan Latu - ECPv6.0.10//NONSGML v1.0//EN
CALSCALE:GREGORIAN
METHOD:PUBLISH
X-WR-CALNAME:Valkealan Latu
X-ORIGINAL-URL:https://valkealanlatu.fi
X-WR-CALDESC:Tapahtumat Valkealan Latu
REFRESH-INTERVAL;VALUE=DURATION:PT1H
X-Robots-Tag:noindex
X-PUBLISHED-TTL:PT1H
BEGIN:VTIMEZONE
TZID:Europe/Helsinki
BEGIN:DAYLIGHT
TZOFFSETFROM:+0200
TZOFFSETTO:+0300
TZNAME:EEST
DTSTART:20180325T010000
END:DAYLIGHT
BEGIN:STANDARD
TZOFFSETFROM:+0300
TZOFFSETTO:+0200
TZNAME:EET
DTSTART:20181028T010000
END:STANDARD
END:VTIMEZONE
BEGIN:VEVENT
DTSTART;TZID=Europe/Helsinki:20180303T100000
DTEND;TZID=Europe/Helsinki:20180303T130000
DTSTAMP:20260425T034953
CREATED:20171031T200026Z
LAST-MODIFIED:20171031T200026Z
UID:838-1520071200-1520082000@valkealanlatu.fi
SUMMARY:Pilkkikisat
DESCRIPTION:Valkealan Latu ry ja Eläkeliiton Valkealan yhdistys ottavat perinteiseen tapaan mittaa toisistaan pilkkikilpailun merkeissä 3.3.2018 klo 10-13. \nTapahtuma järjestetään Haukkajärvellä. Kilpailussa on sarjat nuorille\, naisille ja miehille. \nTapahtuma on suunnattu yhdistysten jäsenille. Tapahtuma on tarkoitettu koko perheelle. \nLisätietoja tapahtumasta tulee lähempänä ajankohtana. Seuraa myös ilmoittelua lehdestä.
URL:https://valkealanlatu.fi/tapahtumat/pilkkikisat/
CATEGORIES:Perheliikunta,Pilkki
END:VEVENT
BEGIN:VEVENT
DTSTART;TZID=Europe/Helsinki:20180306T180000
DTEND;TZID=Europe/Helsinki:20180306T190000
DTSTAMP:20260425T034953
CREATED:20180106T181526Z
LAST-MODIFIED:20180106T181526Z
UID:878-1520359200-1520362800@valkealanlatu.fi
SUMMARY:Venytellen vetreäksi -jumpparyhmä
DESCRIPTION:Venytellen vetreäksi -jumpparyhmä kokoontuu joka tiistai klo 18-19 Valkealan urheilukentän huoltorakennuksella. \nLisätietoja/ tiedustelut: Sari Haimi p. 040 085 1620 tai Tuija Puustinen p. 050 350 0613. \nTervetuloa mukaan!
URL:https://valkealanlatu.fi/tapahtumat/venytellen-vetreaksi-jumpparyhma-24/
LOCATION:Valkealan kirkonkylän urheilukentän huoltorakennus\, Toikkalantie 5\, Valkeala\, Kymenlaakso\, 45370\, Suomi
CATEGORIES:Jumppa
END:VEVENT
BEGIN:VEVENT
DTSTART;TZID=Europe/Helsinki:20180313T180000
DTEND;TZID=Europe/Helsinki:20180313T190000
DTSTAMP:20260425T034953
CREATED:20180106T181737Z
LAST-MODIFIED:20180106T181737Z
UID:880-1520964000-1520967600@valkealanlatu.fi
SUMMARY:Venytellen vetreäksi -jumpparyhmä
DESCRIPTION:Venytellen vetreäksi -jumpparyhmä kokoontuu joka tiistai klo 18-19 Valkealan urheilukentän huoltorakennuksella. \nLisätietoja/ tiedustelut: Sari Haimi p. 040 085 1620 tai Tuija Puustinen p. 050 350 0613. \nTervetuloa mukaan!
URL:https://valkealanlatu.fi/tapahtumat/venytellen-vetreaksi-jumpparyhma-25/
LOCATION:Valkealan kirkonkylän urheilukentän huoltorakennus\, Toikkalantie 5\, Valkeala\, Kymenlaakso\, 45370\, Suomi
CATEGORIES:Jumppa
END:VEVENT
BEGIN:VEVENT
DTSTART;TZID=Europe/Helsinki:20180320T180000
DTEND;TZID=Europe/Helsinki:20180320T190000
DTSTAMP:20260425T034953
CREATED:20180106T181926Z
LAST-MODIFIED:20180106T181926Z
UID:882-1521568800-1521572400@valkealanlatu.fi
SUMMARY:Venytellen vetreäksi -jumpparyhmä
DESCRIPTION:Venytellen vetreäksi -jumpparyhmä kokoontuu joka tiistai klo 18-19 Valkealan urheilukentän huoltorakennuksella. \nLisätietoja/ tiedustelut: Sari Haimi p. 040 085 1620 tai Tuija Puustinen p. 050 350 0613. \nTervetuloa mukaan!
URL:https://valkealanlatu.fi/tapahtumat/venytellen-vetreaksi-jumpparyhma-26/
LOCATION:Valkealan kirkonkylän urheilukentän huoltorakennus\, Toikkalantie 5\, Valkeala\, Kymenlaakso\, 45370\, Suomi
CATEGORIES:Jumppa
END:VEVENT
BEGIN:VEVENT
DTSTART;TZID=Europe/Helsinki:20180327T180000
DTEND;TZID=Europe/Helsinki:20180327T190000
DTSTAMP:20260425T034953
CREATED:20170924T085811Z
LAST-MODIFIED:20170924T085811Z
UID:831-1522173600-1522177200@valkealanlatu.fi
SUMMARY:Venytellen vetreäksi -jumpparyhmä
DESCRIPTION:Venytellen vetreäksi -jumpparyhmän kevätkauden viimeinen jumppa 3.4.2018. \nLisätietoja/ tiedustelut: Sari Haimi p. 040 085 1620 tai Tuija Puustinen p. 050 350 0613. \nTervetuloa mukaan!
URL:https://valkealanlatu.fi/tapahtumat/venytellen-vetreaksi-jumpparyhma-19/
LOCATION:Valkealan kirkonkylän urheilukentän huoltorakennus\, Toikkalantie 5\, Valkeala\, Kymenlaakso\, 45370\, Suomi
CATEGORIES:Jumppa
END:VEVENT
END:VCALENDAR