BEGIN:VCALENDAR
VERSION:2.0
PRODID:-//Valkealan Latu - ECPv6.0.10//NONSGML v1.0//EN
CALSCALE:GREGORIAN
METHOD:PUBLISH
X-WR-CALNAME:Valkealan Latu
X-ORIGINAL-URL:https://valkealanlatu.fi
X-WR-CALDESC:Tapahtumat Valkealan Latu
REFRESH-INTERVAL;VALUE=DURATION:PT1H
X-Robots-Tag:noindex
X-PUBLISHED-TTL:PT1H
BEGIN:VTIMEZONE
TZID:Europe/Helsinki
BEGIN:DAYLIGHT
TZOFFSETFROM:+0200
TZOFFSETTO:+0300
TZNAME:EEST
DTSTART:20200329T010000
END:DAYLIGHT
BEGIN:STANDARD
TZOFFSETFROM:+0300
TZOFFSETTO:+0200
TZNAME:EET
DTSTART:20201025T010000
END:STANDARD
BEGIN:DAYLIGHT
TZOFFSETFROM:+0200
TZOFFSETTO:+0300
TZNAME:EEST
DTSTART:20210328T010000
END:DAYLIGHT
BEGIN:STANDARD
TZOFFSETFROM:+0300
TZOFFSETTO:+0200
TZNAME:EET
DTSTART:20211031T010000
END:STANDARD
BEGIN:DAYLIGHT
TZOFFSETFROM:+0200
TZOFFSETTO:+0300
TZNAME:EEST
DTSTART:20220327T010000
END:DAYLIGHT
BEGIN:STANDARD
TZOFFSETFROM:+0300
TZOFFSETTO:+0200
TZNAME:EET
DTSTART:20221030T010000
END:STANDARD
BEGIN:DAYLIGHT
TZOFFSETFROM:+0200
TZOFFSETTO:+0300
TZNAME:EEST
DTSTART:20230326T010000
END:DAYLIGHT
BEGIN:STANDARD
TZOFFSETFROM:+0300
TZOFFSETTO:+0200
TZNAME:EET
DTSTART:20231029T010000
END:STANDARD
END:VTIMEZONE
BEGIN:VEVENT
DTSTART;TZID=Europe/Helsinki:20200822T090000
DTEND;TZID=Europe/Helsinki:20200822T163000
DTSTAMP:20260423T111011
CREATED:20200722T060008Z
LAST-MODIFIED:20200715T124230Z
UID:1196-1598086800-1598113800@valkealanlatu.fi
SUMMARY:Jäsenmatka 22.8.2020
DESCRIPTION:Valkealan Latu ry järjestää jäsenmatkan Lappeenrantaan lauantaina 22.8.2020. Matkalla tutustutaan hiekkalinnaan ja tehdään 2 tuntinen kanavaristeily Saimaalle m/s Camillalla.\n\nLähtö Valkealan ABC:ltä klo 9:00. Paluu ABC:lle noin klo 16:30.\n\nSitovat ilmoittautumiset 9.8.2020 mennessä Leena Ravantille p. 040 522 5740.\n\nMatkalle mahtuu mukaan 35 ensimmäisenä ilmoittautunutta. Valkealan Latu ry tarjoaa jäsenilleen ilmaisen bussikuljetuksen ja risteilyn.
URL:https://valkealanlatu.fi/tapahtumat/jasenmatka-22-8-2020/
LOCATION:Lappeenranta\, Lappeenranta\, Suomi
CATEGORIES:Jäsenmatka
END:VEVENT
BEGIN:VEVENT
DTSTART;TZID=Europe/Helsinki:20200901T180000
DTEND;TZID=Europe/Helsinki:20200901T190000
DTSTAMP:20260423T111011
CREATED:20200831T073608Z
LAST-MODIFIED:20200831T073608Z
UID:1203-1598983200-1598986800@valkealanlatu.fi
SUMMARY:Venytellen vetreäksi -jumpparyhmä
DESCRIPTION:Venytellen vetreäksi -jumpparyhmä kokoontuu tiistaisin klo 18 Valkealan kirkonkylän urheilukentän lähimaastossa. Vallitsevasta Covid-19 tilanteesta johtuen ryhmä liikkuu toistaiseksi ulkona sauvakävellen. Ryhmän ohjaajina toimivat vuoroviikoin Sari Haimi ja Tuija Puustinen. Ryhmä on kaikille avoin ja maksuton. Ennakkoilmoittautumista ei tarvita. Tervetuloa mukaan liikkumaan!
URL:https://valkealanlatu.fi/tapahtumat/venytellen-vetreaksi-jumpparyhma-46/
LOCATION:Valkealan kirkonkylän urheilukentän huoltorakennus\, Toikkalantie 5\, Valkeala\, Kymenlaakso\, 45370\, Suomi
END:VEVENT
BEGIN:VEVENT
DTSTART;TZID=Europe/Helsinki:20200904T210000
DTEND;TZID=Europe/Helsinki:20200912T210000
DTSTAMP:20260423T111012
CREATED:20200104T164319Z
LAST-MODIFIED:20200723T192232Z
UID:1154-1599253200-1599944400@valkealanlatu.fi
SUMMARY:Ruskamatka Saariselälle VIELÄ MUUTAMIA PAIKKOJA VAPAANA!
DESCRIPTION:Ruskamatka Saariselälle (vko 37) 4.-12.9.2020. Matkalle on vielä muutamia paikkoja vapaina.\nTiedustelut ja varaukset: Tuija Puustinen p. 050 350 0613 klo 17 jälkeen tai\nsähköpostitse: puustinentuija@gmail.com.
URL:https://valkealanlatu.fi/tapahtumat/ruskamatka-saariselalle-4/
CATEGORIES:Patikointi
END:VEVENT
BEGIN:VEVENT
DTSTART;TZID=Europe/Helsinki:20200908T180000
DTEND;TZID=Europe/Helsinki:20200908T190000
DTSTAMP:20260423T111012
CREATED:20200831T073923Z
LAST-MODIFIED:20200831T073923Z
UID:1205-1599588000-1599591600@valkealanlatu.fi
SUMMARY:Venytellen vetreäksi -jumpparyhmä
DESCRIPTION:Venytellen vetreäksi -jumpparyhmä kokoontuu tiistaisin klo 18 Valkealan kirkonkylän urheilukentän lähimaastossa. Vallitsevasta Covid-19 tilanteesta johtuen ryhmä liikkuu toistaiseksi ulkona sauvakävellen. Ryhmän ohjaajina toimivat vuoroviikoin Sari Haimi ja Tuija Puustinen. Ryhmä on kaikille avoin ja maksuton. Ennakkoilmoittautumista ei tarvita. Tervetuloa mukaan liikkumaan!
URL:https://valkealanlatu.fi/tapahtumat/venytellen-vetreaksi-jumpparyhma-47/
LOCATION:Valkealan kirkonkylän urheilukentän huoltorakennus\, Toikkalantie 5\, Valkeala\, Kymenlaakso\, 45370\, Suomi
END:VEVENT
BEGIN:VEVENT
DTSTART;TZID=Europe/Helsinki:20200915T180000
DTEND;TZID=Europe/Helsinki:20200915T190000
DTSTAMP:20260423T111012
CREATED:20200831T074058Z
LAST-MODIFIED:20200831T074058Z
UID:1207-1600192800-1600196400@valkealanlatu.fi
SUMMARY:Venytellen vetreäksi -jumpparyhmä
DESCRIPTION:Venytellen vetreäksi -jumpparyhmä kokoontuu tiistaisin klo 18 Valkealan kirkonkylän urheilukentän lähimaastossa. Vallitsevasta Covid-19 tilanteesta johtuen ryhmä liikkuu toistaiseksi ulkona sauvakävellen. Ryhmän ohjaajina toimivat vuoroviikoin Sari Haimi ja Tuija Puustinen. Ryhmä on kaikille avoin ja maksuton. Ennakkoilmoittautumista ei tarvita. Tervetuloa mukaan liikkumaan!
URL:https://valkealanlatu.fi/tapahtumat/venytellen-vetreaksi-jumpparyhma-48/
LOCATION:Valkealan kirkonkylän urheilukentän huoltorakennus\, Toikkalantie 5\, Valkeala\, Kymenlaakso\, 45370\, Suomi
END:VEVENT
BEGIN:VEVENT
DTSTART;TZID=Europe/Helsinki:20200922T180000
DTEND;TZID=Europe/Helsinki:20200922T190000
DTSTAMP:20260423T111012
CREATED:20200831T074245Z
LAST-MODIFIED:20200831T074245Z
UID:1209-1600797600-1600801200@valkealanlatu.fi
SUMMARY:Venytellen vetreäksi -jumpparyhmä
DESCRIPTION:Venytellen vetreäksi -jumpparyhmä kokoontuu tiistaisin klo 18 Valkealan kirkonkylän urheilukentän lähimaastossa. Vallitsevasta Covid-19 tilanteesta johtuen ryhmä liikkuu toistaiseksi ulkona sauvakävellen. Ryhmän ohjaajina toimivat vuoroviikoin Sari Haimi ja Tuija Puustinen. Ryhmä on kaikille avoin ja maksuton. Ennakkoilmoittautumista ei tarvita. Tervetuloa mukaan liikkumaan!
URL:https://valkealanlatu.fi/tapahtumat/venytellen-vetreaksi-jumpparyhma-49/
LOCATION:Valkealan kirkonkylän urheilukentän huoltorakennus\, Toikkalantie 5\, Valkeala\, Kymenlaakso\, 45370\, Suomi
END:VEVENT
BEGIN:VEVENT
DTSTART;TZID=Europe/Helsinki:20200929T180000
DTEND;TZID=Europe/Helsinki:20200929T190000
DTSTAMP:20260423T111012
CREATED:20200831T074414Z
LAST-MODIFIED:20200831T074414Z
UID:1211-1601402400-1601406000@valkealanlatu.fi
SUMMARY:Venytellen vetreäksi -jumpparyhmä
DESCRIPTION:Venytellen vetreäksi -jumpparyhmä kokoontuu tiistaisin klo 18 Valkealan kirkonkylän urheilukentän lähimaastossa. Vallitsevasta Covid-19 tilanteesta johtuen ryhmä liikkuu toistaiseksi ulkona sauvakävellen. Ryhmän ohjaajina toimivat vuoroviikoin Sari Haimi ja Tuija Puustinen. Ryhmä on kaikille avoin ja maksuton. Ennakkoilmoittautumista ei tarvita. Tervetuloa mukaan liikkumaan!
URL:https://valkealanlatu.fi/tapahtumat/venytellen-vetreaksi-jumpparyhma-50/
LOCATION:Valkealan kirkonkylän urheilukentän huoltorakennus\, Toikkalantie 5\, Valkeala\, Kymenlaakso\, 45370\, Suomi
END:VEVENT
BEGIN:VEVENT
DTSTART;TZID=Europe/Helsinki:20201006T180000
DTEND;TZID=Europe/Helsinki:20201006T190000
DTSTAMP:20260423T111012
CREATED:20200831T074538Z
LAST-MODIFIED:20200928T184924Z
UID:1213-1602007200-1602010800@valkealanlatu.fi
SUMMARY:Venytellen vetreäksi -jumpparyhmä
DESCRIPTION:Venytellen vetreäksi -jumpparyhmä kokoontuu tiistaina 6.10.2020 klo 18 Harjunmäen laavun parkkipaikalla. Aiheena ryhmässä on                            6.10. frisbeegolf. Ryhmän ohjaajina toimivat vuoroviikoin Sari Haimi ja Tuija Puustinen. Ryhmä on kaikille avoin ja maksuton. Ennakkoilmoittautumista ei tarvita. Tervetuloa mukaan liikkumaan!
URL:https://valkealanlatu.fi/tapahtumat/venytellen-vetreaksi-jumpparyhma-51/
LOCATION:Valkealan kirkonkylän urheilukentän huoltorakennus\, Toikkalantie 5\, Valkeala\, Kymenlaakso\, 45370\, Suomi
END:VEVENT
BEGIN:VEVENT
DTSTART;TZID=Europe/Helsinki:20201013T180000
DTEND;TZID=Europe/Helsinki:20201013T190000
DTSTAMP:20260423T111012
CREATED:20200831T074658Z
LAST-MODIFIED:20200831T074658Z
UID:1215-1602612000-1602615600@valkealanlatu.fi
SUMMARY:Venytellen vetreäksi -jumpparyhmä
DESCRIPTION:Venytellen vetreäksi -jumpparyhmä kokoontuu tiistaisin klo 18 Valkealan kirkonkylän urheilukentän lähimaastossa. Vallitsevasta Covid-19 tilanteesta johtuen ryhmä liikkuu toistaiseksi ulkona sauvakävellen. Ryhmän ohjaajina toimivat vuoroviikoin Sari Haimi ja Tuija Puustinen. Ryhmä on kaikille avoin ja maksuton. Ennakkoilmoittautumista ei tarvita. Tervetuloa mukaan liikkumaan!
URL:https://valkealanlatu.fi/tapahtumat/venytellen-vetreaksi-jumpparyhma-52/
LOCATION:Valkealan kirkonkylän urheilukentän huoltorakennus\, Toikkalantie 5\, Valkeala\, Kymenlaakso\, 45370\, Suomi
END:VEVENT
BEGIN:VEVENT
DTSTART;TZID=Europe/Helsinki:20201020T180000
DTEND;TZID=Europe/Helsinki:20201020T190000
DTSTAMP:20260423T111012
CREATED:20200831T074825Z
LAST-MODIFIED:20200831T074825Z
UID:1217-1603216800-1603220400@valkealanlatu.fi
SUMMARY:Venytellen vetreäksi -jumpparyhmä
DESCRIPTION:Venytellen vetreäksi -jumpparyhmä kokoontuu tiistaisin klo 18 Valkealan kirkonkylän urheilukentän lähimaastossa. Vallitsevasta Covid-19 tilanteesta johtuen ryhmä liikkuu toistaiseksi ulkona sauvakävellen. Ryhmän ohjaajina toimivat vuoroviikoin Sari Haimi ja Tuija Puustinen. Ryhmä on kaikille avoin ja maksuton. Ennakkoilmoittautumista ei tarvita. Tervetuloa mukaan liikkumaan!
URL:https://valkealanlatu.fi/tapahtumat/venytellen-vetreaksi-jumpparyhma-53/
LOCATION:Valkealan kirkonkylän urheilukentän huoltorakennus\, Toikkalantie 5\, Valkeala\, Kymenlaakso\, 45370\, Suomi
END:VEVENT
BEGIN:VEVENT
DTSTART;TZID=Europe/Helsinki:20201027T180000
DTEND;TZID=Europe/Helsinki:20201027T190000
DTSTAMP:20260423T111012
CREATED:20200831T074939Z
LAST-MODIFIED:20200831T074939Z
UID:1219-1603821600-1603825200@valkealanlatu.fi
SUMMARY:Venytellen vetreäksi -jumpparyhmä
DESCRIPTION:Venytellen vetreäksi -jumpparyhmä kokoontuu tiistaisin klo 18 Valkealan kirkonkylän urheilukentän lähimaastossa. Vallitsevasta Covid-19 tilanteesta johtuen ryhmä liikkuu toistaiseksi ulkona sauvakävellen. Ryhmän ohjaajina toimivat vuoroviikoin Sari Haimi ja Tuija Puustinen. Ryhmä on kaikille avoin ja maksuton. Ennakkoilmoittautumista ei tarvita. Tervetuloa mukaan liikkumaan!
URL:https://valkealanlatu.fi/tapahtumat/venytellen-vetreaksi-jumpparyhma-54/
LOCATION:Valkealan kirkonkylän urheilukentän huoltorakennus\, Toikkalantie 5\, Valkeala\, Kymenlaakso\, 45370\, Suomi
END:VEVENT
BEGIN:VEVENT
DTSTART;TZID=Europe/Helsinki:20201119T190000
DTEND;TZID=Europe/Helsinki:20201119T190000
DTSTAMP:20260423T111012
CREATED:20201027T165508Z
LAST-MODIFIED:20201027T165508Z
UID:1226-1605812400-1605812400@valkealanlatu.fi
SUMMARY:Syyskokous
DESCRIPTION:Valkealan Latu ry:n Syyskokous pidetään Valkealatalossa to 19.11.2020 klo 19. Kokouksessa käsitellään sääntöjen 13 § määräämät asiat. Tervetuloa mukaan! Muistathan varustautua suu-nenäsuojalla kokoukseen saapuessasi. Hallitus
URL:https://valkealanlatu.fi/tapahtumat/syyskokous-3/
LOCATION:Valkealatalo\, Toikkalantie 5\, Kouvola\, 45370
CATEGORIES:Kokous
END:VEVENT
BEGIN:VEVENT
DTSTART;TZID=Europe/Helsinki:20201206T100000
DTEND;TZID=Europe/Helsinki:20201206T130000
DTSTAMP:20260423T111012
CREATED:20200104T164816Z
LAST-MODIFIED:20201205T083129Z
UID:1156-1607248800-1607259600@valkealanlatu.fi
SUMMARY:Itsenäisyyspäivän patikointi
DESCRIPTION:Valkealan Latu ry juhlii perinteisesti itsenäisyyspäivää järjestämällä jäsenilleen patikoinnin Repoveden kansallispuistoon Määkijän kodalle. Lähtö klo 10 Lapinsalmen parkkipaikalta. Patikoinnilla huomioidaan voimassaolevat Covid -ohjeistukset. Patikoinnille on hyvä ottaa mukaan omat eväät ja pukeutua lämpimästi\, sillä tapahtuma toteutuu kokonaan ulkona. Tiedustelut: Tuija Puustinen p. 050 350 0613 klo 17 jälkeen tai sähköpostitse: puustinentuija@gmail.com.
URL:https://valkealanlatu.fi/tapahtumat/itsenaisyyspaivan-patikointi-2/
LOCATION:Lapinsalmi\, Riippusillantie 55\, Kouvola
CATEGORIES:Patikointi
END:VEVENT
BEGIN:VEVENT
DTSTART;TZID=Europe/Helsinki:20210831T180000
DTEND;TZID=Europe/Helsinki:20210831T190000
DTSTAMP:20260423T111012
CREATED:20210829T162807Z
LAST-MODIFIED:20210829T162807Z
UID:1256-1630432800-1630436400@valkealanlatu.fi
SUMMARY:Venytellen vetreäksi -jumpparyhmä
DESCRIPTION:Venytellen vetreäksi -jumpparyhmä aloittaa syyskauden tiistaina 31.8.2021 sauvakävelyn merkeissä. Kokoontuminen Valkealatalon parkkipaikalla klo 18. Sään mukainen pukeutuminen\, Ei ennakkoilmoittautumista. \nOhjaajina vuoroviikon Sari Haimi (p. 040 0851 620) ja Tuija Puustinen (p. 050 350 0613). Ohjaajilta saat tarkempaa tietoa kokoontumisista. Jos olet pois ryhmästä\, ohjaajille soittamalla saat tietää millon ryhmä kokoontuu seuraavan kerran. \nTervetuloa mukaan liikkumaan!
URL:https://valkealanlatu.fi/tapahtumat/venytellen-vetreaksi-jumpparyhma-55/
LOCATION:Valkealatalo\, Toikkalantie 5\, Kouvola\, 45370
CATEGORIES:Jumppa
END:VEVENT
BEGIN:VEVENT
DTSTART;TZID=Europe/Helsinki:20210907T180000
DTEND;TZID=Europe/Helsinki:20210907T190000
DTSTAMP:20260423T111012
CREATED:20210829T165450Z
LAST-MODIFIED:20210829T165450Z
UID:1258-1631037600-1631041200@valkealanlatu.fi
SUMMARY:Venytellen vetreäksi -jumpparyhmä
DESCRIPTION:Venytellen vetreäksi -jumpparyhmä kokoontuu tiistaisin klo 18-19. Kokoontuminen Valkealatalon parkkipaikalla klo 18. Sään mukainen pukeutuminen\, Ei ennakkoilmoittautumista. \nOhjaajina vuoroviikon Sari Haimi (p. 040 0851 620) ja Tuija Puustinen (p. 050 350 0613). Ohjaajilta saat tarkempaa tietoa kokoontumisista. Jos olet pois ryhmästä\, ohjaajille soittamalla saat tietää millon ryhmä kokoontuu seuraavan kerran. \nTervetuloa mukaan!
URL:https://valkealanlatu.fi/tapahtumat/venytellen-vetreaksi-jumpparyhma-56/
LOCATION:Valkealatalo\, Toikkalantie 5\, Kouvola\, 45370
CATEGORIES:Jumppa
END:VEVENT
BEGIN:VEVENT
DTSTART;TZID=Europe/Helsinki:20210926T100000
DTEND;TZID=Europe/Helsinki:20210926T150000
DTSTAMP:20260423T111012
CREATED:20210829T173702Z
LAST-MODIFIED:20210829T173702Z
UID:1260-1632650400-1632668400@valkealanlatu.fi
SUMMARY:Luontoretki
DESCRIPTION:Valkealan Latu ry lähtee tutustumaan sunnuntaina 26.9. Luumäelle Tolpankankaan luontopolkuun. Lähtö Valkealantalon pihalta klo 10. Kulku Luumäelle omilla autoilla. Voit myös kysyä\, onko lähtijöiden autoissa tilaa. Polut ovat helppokulkuisia\, joten reitti sopii kaikenikäisille ja -kuntoisille. \nOmat eväät mukaan. Luontopolkuun kuuluvalla Karhulammen laavulla on makkaranpaisto mahdollisuus. Laavulla luvassa pientä ohjelmaa/ ajanvietettä. Lähde mukaan ulkoilemaan! \nLisätietoja antaa: Puheenjohtaja Antti Haverinen p. 040 571 5110 klo 17 jälkeen.
URL:https://valkealanlatu.fi/tapahtumat/luontoretki/
CATEGORIES:Patikointi,Perheliikunta
END:VEVENT
BEGIN:VEVENT
DTSTART;TZID=Europe/Helsinki:20211117T190000
DTEND;TZID=Europe/Helsinki:20211117T200000
DTSTAMP:20260423T111012
CREATED:20211028T162810Z
LAST-MODIFIED:20211028T162810Z
UID:1264-1637175600-1637179200@valkealanlatu.fi
SUMMARY:Syyskokous
DESCRIPTION:Valkealan Latu ry:n Syyskokous pidetään ke 17.11.2021 klo 19 Valkealatalossa. Kokouksessa käsitellään sääntöjen 13 § määräämät asiat. Tervetuloa mukaan! Hallitus
URL:https://valkealanlatu.fi/tapahtumat/syyskokous-4/
LOCATION:Valkealatalo\, Toikkalantie 5\, Kouvola\, 45370
CATEGORIES:Kokous
END:VEVENT
BEGIN:VEVENT
DTSTART;TZID=Europe/Helsinki:20211123T180000
DTEND;TZID=Europe/Helsinki:20211123T190000
DTSTAMP:20260423T111012
CREATED:20211028T163604Z
LAST-MODIFIED:20211028T163604Z
UID:1266-1637690400-1637694000@valkealanlatu.fi
SUMMARY:Venytellen vetreäksi -jumpparyhmä
DESCRIPTION:Venytellen vetreäksi -jumpparyhmä kokoontuu 23.11. alkaen marraskuun ajan klo 18-19 Valkealan kirkonkylän urheilukentän huoltorakennuksessa. Ryhmän ohjaajana toimii Tuija Puustinen. Ryhmä on kaikille avoin ja maksuton. Ennakkoilmoittautumista ei tarvita. Tervetuloa mukaan liikkumaan!
URL:https://valkealanlatu.fi/tapahtumat/venytellen-vetreaksi-jumpparyhma-57/
LOCATION:Valkealan kirkonkylän urheilukentän huoltorakennus\, Toikkalantie 5\, Valkeala\, Kymenlaakso\, 45370\, Suomi
CATEGORIES:Jumppa
END:VEVENT
BEGIN:VEVENT
DTSTART;TZID=Europe/Helsinki:20211206T100000
DTEND;TZID=Europe/Helsinki:20211206T150000
DTSTAMP:20260423T111012
CREATED:20211028T164802Z
LAST-MODIFIED:20211028T164802Z
UID:1268-1638784800-1638802800@valkealanlatu.fi
SUMMARY:Itsenäisyyspäivän patikointi
DESCRIPTION:Valkealan Latu ry:n perinteinen Itsenäisyyspäivän patikointi 6.12. Määkijän kodalle Repoveden kansallispuistoon. Lähtö 10 Lapinsalmen parkkipaikalta ja paluu parkkipaikalle klo 15 mennessä. Säänmukainen vaatetus ja kävelysauvat mukaan. Omat eväät. Tervetuloa mukaan jäsenet! \n 
URL:https://valkealanlatu.fi/tapahtumat/itsenaisyyspaivan-patikointi-3/
LOCATION:Lapinsalmi\, Riippusillantie 55\, Kouvola
CATEGORIES:Patikointi,Perheliikunta
END:VEVENT
BEGIN:VEVENT
DTSTART;TZID=Europe/Helsinki:20220208T164500
DTEND;TZID=Europe/Helsinki:20220208T183000
DTSTAMP:20260423T111012
CREATED:20220123T195419Z
LAST-MODIFIED:20220123T195419Z
UID:1282-1644338700-1644345000@valkealanlatu.fi
SUMMARY:Hiihtokoulu
DESCRIPTION:Valkealan Latu ry järjestää Muumi -hiihtokoulun alle kouluikäisille lapsille 8.-9.2.2022 klo 16:45-18:30 Valkealan kirkonkylän urheilukentällä. Hiihtokouluun mahtuu mukaan rajattu määrä osallistujia. Hinta: 10 € jäsen ja 15 € ei-jäsen. Hintaan sisältyy hiihdon ohjaus ja todistus. Ei tarjoilua. Ilmoittautumiset 4.2. mennessä Leena Ravantille p. 040 522 5740.
URL:https://valkealanlatu.fi/tapahtumat/hiihtokoulu-2/
LOCATION:Valkealan kirkonkylän urheilukenttä\, Toikkalantie 5\, Valkeala\, Kymenlaakso\, 45370\, Suomi
CATEGORIES:Hiihto,Lasten toiminta
END:VEVENT
BEGIN:VEVENT
DTSTART;TZID=Europe/Helsinki:20220408T090000
DTEND;TZID=Europe/Helsinki:20220416T170000
DTSTAMP:20260423T111012
CREATED:20211028T165638Z
LAST-MODIFIED:20211028T165638Z
UID:1270-1649408400-1650128400@valkealanlatu.fi
SUMMARY:Ylläksen hiihtomatka
DESCRIPTION:Valkealan Latu ry järjestää hiihtomatkan Ylläkselle 8.-16.4.2022 (vko 15). \nLisätiedot ja tiedustelut: Tuija Puustinen p. 050 350 0613 klo 16 jälkeen.
URL:https://valkealanlatu.fi/tapahtumat/yllaksen-hiihtomatka/
LOCATION:Ylläs\,  \, Äkäslompolo\, 95970\, Suomi
CATEGORIES:Hiihto,Jäsenmatka
END:VEVENT
BEGIN:VEVENT
DTSTART;TZID=Europe/Helsinki:20220425T173000
DTEND;TZID=Europe/Helsinki:20220516T190000
DTSTAMP:20260423T111012
CREATED:20220328T164741Z
LAST-MODIFIED:20220329T151129Z
UID:1287-1650907800-1652727600@valkealanlatu.fi
SUMMARY:Metsämörrikoulu
DESCRIPTION:Valkealan Latu ry järjestää Metsämörrikoulun 4-6 -vuotiaille lapsille 25.4.-16.5.2022 (maanantaisin) klo 17:30-19. Kokoontumispaikka Harjunmäen hiihtoparkki. Mörrikouluun tarvitaan mukaan sään mukainen vaatetus\, reppuun pienet eväät\, juotavaa ja istuinalusta. Hinta 15€. Lisätiedot ja ilmoittautumiset 18.4 mennessä Leena Ravantille p. 040 522 5740.
URL:https://valkealanlatu.fi/tapahtumat/metsamorrikoulu-2/
LOCATION:Toikkalantien hiihtoparkki\, Valkeala\, 60.940399\,26.820825
CATEGORIES:Lasten toiminta
END:VEVENT
BEGIN:VEVENT
DTSTART;TZID=Europe/Helsinki:20220514T100000
DTEND;TZID=Europe/Helsinki:20220514T170000
DTSTAMP:20260423T111012
CREATED:20220328T165332Z
LAST-MODIFIED:20220328T165332Z
UID:1289-1652522400-1652547600@valkealanlatu.fi
SUMMARY:Jäsenmatka Helsinkiin
DESCRIPTION:Valkealan Latu ry järjestää jäsenmatkan lauantaina 14.5.2022 Helsinkiin Linnanmäelle tai Korkeasaareen valintasi mukaan. Lähtö klo 10 Valkealan ABC:n pihasta ja paluu klo 17 Linnanmäeltä.\nSitovat ilmoittautumiset 7.5 mennessä Leena Ravantille p. 040 522 5740. Mukaan mahtuu 50 ensimmäisenä ilmoittautunutta jäsentä\, paikat täytetään ilmoittautumisjärjestyksessä.  \nValkealan Latu ry tarjoaa jäsenilleen ilmaisen bussikuljetuksen. \nTervetuloa!
URL:https://valkealanlatu.fi/tapahtumat/jasenmatka-helsinkiin/
LOCATION:Linnanmäki\, Tivolikuja 1\, Helsinki\, 00510\, Suomi
CATEGORIES:Jäsenmatka
END:VEVENT
BEGIN:VEVENT
DTSTART;TZID=Europe/Helsinki:20220524T170000
DTEND;TZID=Europe/Helsinki:20220524T200000
DTSTAMP:20260423T111012
CREATED:20220328T165605Z
LAST-MODIFIED:20220328T165605Z
UID:1292-1653411600-1653422400@valkealanlatu.fi
SUMMARY:Patikointiretki
DESCRIPTION:Valkealan Latu ry järjestää jäsenilleen patikointiretken Paaskosken majalle 24.5.2022. Lähtö Valkealatalon parkkipaikalta klo 17 tai Jyrääntien hiihtoparkista klo 18. Ilmoittautumiset 19.5 mennessä Leena Ravantille p. 040 522 5740. Tervetuloa!
URL:https://valkealanlatu.fi/tapahtumat/patikointiretki/
LOCATION:Paaskosken Maja\, Karimäentie 90\, Kouvola\, Valkeala\, 45360\, Suomi
CATEGORIES:Patikointi,Perheliikunta
END:VEVENT
BEGIN:VEVENT
DTSTART;TZID=Europe/Helsinki:20230516T170000
DTEND;TZID=Europe/Helsinki:20230516T210000
DTSTAMP:20260423T111012
CREATED:20230411T072702Z
LAST-MODIFIED:20230411T072702Z
UID:1385-1684256400-1684270800@valkealanlatu.fi
SUMMARY:Patikointiretki jäsenille
DESCRIPTION:Valkealan latu järjestää kävelyretken Paaskosken majalle (laavulle) tiistaina 16.5.2023.\nLähtö joko Valkealatalolta tunnelin vierestä kello 17 tai Jyrääntien hiihtoparkista kello 18. Pientä tarjoilua luvassa laavulla. \nIlmoittautumiset Leenalle to 11.5. mennessä puh. 040 522 5740. \n 
URL:https://valkealanlatu.fi/tapahtumat/patikointiretki-jasenille/
CATEGORIES:Patikointi
END:VEVENT
BEGIN:VEVENT
DTSTART;TZID=Europe/Helsinki:20230523T170000
DTEND;TZID=Europe/Helsinki:20230523T200000
DTSTAMP:20260423T111012
CREATED:20230411T073318Z
LAST-MODIFIED:20230411T073318Z
UID:1389-1684861200-1684872000@valkealanlatu.fi
SUMMARY:Mölkkykisat jäsenille
DESCRIPTION:Valkealan Latu järjestää jäsenilleen mölkkykisat tiistaina 23.5. kello 17 alkaen. Kisat järjestetään Pro Patrian muistomerkillä (Kalevantie\, Valkeala). Osallistumismaksu 5€. Tarjolla makkaraa ja juotavaa pientä maksua vastaan. \nIlmoittautumiset perjantaihin 19.5. mennessä Leenalle puhelimitse 040 522 5740.
URL:https://valkealanlatu.fi/tapahtumat/molkkykisat-jasenille/
CATEGORIES:Mölkky
END:VEVENT
BEGIN:VEVENT
DTSTART;TZID=Europe/Helsinki:20230525T173000
DTEND;TZID=Europe/Helsinki:20230525T190000
DTSTAMP:20260423T111012
CREATED:20230503T065801Z
LAST-MODIFIED:20230503T065801Z
UID:1392-1685035800-1685041200@valkealanlatu.fi
SUMMARY:Tervetuloa tutustumaan polkujuoksuun!
DESCRIPTION:Valkealan latu järjestää maksuttomat aloittelijaystävälliset polkujuoksulenkit\nTorstaina 25.5. kello 17.30-19\nMaanantaina 19.6. kello 17.30-19 \nMolempina päivinä lähtö on Jyrääntien hiihtoparkista. Varustauduthan sään mukaisesti ja otat mukaan juotavaa. \nLenkin kesto on noin 1h\, sisältäen rauhallista hölkkää ja kävelyä. Lenkki kulkee latupohjaa ja polkuja. \nIlmoittautumiset edelliseen iltaan mennessä Hannaleenalle (hannaleena.ahtiainen@gmail.com/p. 040 8668588).\nMukaan mahtuu 10 juoksijaa. \nTervetuloa mukaan!
URL:https://valkealanlatu.fi/tapahtumat/tervetuloa-tutustumaan-polkujuoksuun/
LOCATION:Jyrääntien hiihtoparkki
CATEGORIES:Polkujuoksu
END:VEVENT
BEGIN:VEVENT
DTSTART;TZID=Europe/Helsinki:20230619T173000
DTEND;TZID=Europe/Helsinki:20230619T190000
DTSTAMP:20260423T111012
CREATED:20230503T065944Z
LAST-MODIFIED:20230503T065944Z
UID:1395-1687195800-1687201200@valkealanlatu.fi
SUMMARY:Tervetuloa tutustumaan polkujuoksuun!
DESCRIPTION:Valkealan latu järjestää maksuttomat aloittelijaystävälliset polkujuoksulenkit\nTorstaina 25.5. kello 17.30-19\nMaanantaina 19.6. kello 17.30-19 \nMolempina päivinä lähtö on Jyrääntien hiihtoparkista. Varustauduthan sään mukaisesti ja otat mukaan juotavaa. \nLenkin kesto on noin 1h\, sisältäen rauhallista hölkkää ja kävelyä. Lenkki kulkee latupohjaa ja polkuja. \nIlmoittautumiset edelliseen iltaan mennessä Hannaleenalle (hannaleena.ahtiainen@gmail.com/p. 040 8668588).\nMukaan mahtuu 10 juoksijaa. \nTervetuloa mukaan!
URL:https://valkealanlatu.fi/tapahtumat/tervetuloa-tutustumaan-polkujuoksuun-2/
CATEGORIES:Polkujuoksu
END:VEVENT
BEGIN:VEVENT
DTSTART;TZID=Europe/Helsinki:20230902T120000
DTEND;TZID=Europe/Helsinki:20230902T170000
DTSTAMP:20260423T111012
CREATED:20230602T081247Z
LAST-MODIFIED:20230602T081247Z
UID:1398-1693656000-1693674000@valkealanlatu.fi
SUMMARY:Jäsenristeily Orilammen majalta
DESCRIPTION:Valkealan Latu ry järjestää jäsenilleen risteilyn ja ruokailun lauantaina 2.9.2023 kello 12.00.  \nRisteily lähtee Orilammen majan rannasta (Voikoskentie 138\, 47910 Hillosensalmi) ”Suomen kultareitillä”. \nRuokailu järjestetään Orilammen majalla kello 14.00 alkaen. \nHinta: \naikuiset: 15€ \nlapset (5-12-vuotiaat): 5€ \nMaksu tilille: FI96 5750 0120 2545 53 \n  \nMukaan mahtuu 50 ensimmäistä ilmoittautunutta Valkealan Ladun jäsentä. \nIlmoittautumiset 20.8.2023 mennessä: \nLeena Ravantti p. 040 522 5740 \nIlmoitathan ilmoittautumisen yhteydessä mahdolliset ruoka-aine allergiat. \n 
URL:https://valkealanlatu.fi/tapahtumat/jasenristeily-orilammen-majalta/
LOCATION:Orilammen Maja\, Voikoskentie 138\, Kouvola\, Hillosensalmi\, 47910\, Suomi
CATEGORIES:Jäsenmatka
END:VEVENT
BEGIN:VEVENT
DTSTART;TZID=Europe/Helsinki:20230912T173000
DTEND;TZID=Europe/Helsinki:20231003T190000
DTSTAMP:20260423T111012
CREATED:20230831T045342Z
LAST-MODIFIED:20230831T045342Z
UID:1401-1694539800-1696359600@valkealanlatu.fi
SUMMARY:Metsämörri-illat
DESCRIPTION:Valkealan Latu ry järjestää Metsämörri-illat 5-7-vuotiaille lapsille! \nTapaamme 4:nä tiistaina: 12.9.\, 19.9.\, 26.9. ja 3.10. kello 17.30-19\, kokoontuminen Harjunmäen hiihtoparkilla. \nMukaan mahtuu 12 ensimmäiseksi ilmoittautunutta lasta. \nHinta: 15€ \nIlmoittautumiset: Leena Ravantti (p. 040 522 5740) tiistaihin 5.9.2023 mennessä. \nSään mukainen pukeutuminen. Mukaan pienet eväät\, jotka syödään illan aikana. \n 
URL:https://valkealanlatu.fi/tapahtumat/metsamorri-illat/
LOCATION:Toikkalantien hiihtoparkki\, Kouvola\, 60.940399\, 26.820825\, 45370\, Suomi
CATEGORIES:Lasten toiminta
END:VEVENT
END:VCALENDAR