BEGIN:VCALENDAR
VERSION:2.0
PRODID:-//Valkealan Latu - ECPv6.0.10//NONSGML v1.0//EN
CALSCALE:GREGORIAN
METHOD:PUBLISH
X-ORIGINAL-URL:https://valkealanlatu.fi
X-WR-CALDESC:Tapahtumat Valkealan Latu
REFRESH-INTERVAL;VALUE=DURATION:PT1H
X-Robots-Tag:noindex
X-PUBLISHED-TTL:PT1H
BEGIN:VTIMEZONE
TZID:Europe/Helsinki
BEGIN:DAYLIGHT
TZOFFSETFROM:+0200
TZOFFSETTO:+0300
TZNAME:EEST
DTSTART:20170326T010000
END:DAYLIGHT
BEGIN:STANDARD
TZOFFSETFROM:+0300
TZOFFSETTO:+0200
TZNAME:EET
DTSTART:20171029T010000
END:STANDARD
BEGIN:DAYLIGHT
TZOFFSETFROM:+0200
TZOFFSETTO:+0300
TZNAME:EEST
DTSTART:20180325T010000
END:DAYLIGHT
BEGIN:STANDARD
TZOFFSETFROM:+0300
TZOFFSETTO:+0200
TZNAME:EET
DTSTART:20181028T010000
END:STANDARD
END:VTIMEZONE
BEGIN:VEVENT
DTSTART;TZID=Europe/Helsinki:20170401T100000
DTEND;TZID=Europe/Helsinki:20170401T140000
DTSTAMP:20260426T043931
CREATED:20170204T181311Z
LAST-MODIFIED:20170204T181311Z
UID:643-1491040800-1491055200@valkealanlatu.fi
SUMMARY:Lastentoiminnan aluetapaaminen
DESCRIPTION:Tervetuloa lastentoiminnan aluetapaamiseen Kouvolan Ladun Latupirtille 1.4.2017 klo 10-14. Ohjelmassa lastentoiminnan koulutusta. Yhdessä kokoamme yhteen hyvät ideat ja tavat saada perheet ja lapset liikkeelle. \n  \n 
URL:https://valkealanlatu.fi/tapahtumat/lastentoiminnan-aluetapaaminen/
LOCATION:Hautalantie 250\, Valkeala\, Hautalantie 250\, Kouvola\, Suomi
END:VEVENT
BEGIN:VEVENT
DTSTART;TZID=Europe/Helsinki:20170404T180000
DTEND;TZID=Europe/Helsinki:20170404T190000
DTSTAMP:20260426T043931
CREATED:20170119T225557Z
LAST-MODIFIED:20170119T225557Z
UID:558-1491328800-1491332400@valkealanlatu.fi
SUMMARY:Venytellen vetreäksi -liikuntaryhmä
DESCRIPTION:Valkealan Latu ry;n järjestämä Venytellen vetreäksi -liikuntaryhmä kokoontuu kerran viikossa tiistaisin klo 18-19 Valkealan urheilukentän huoltorakennuksessa. Kevään 2017 jumppa toteutuu sisätiloissa\, joten mukaan tarvitset jumppaan soveltuvat joustavat vaatteet\, tossut tai sisäliikuntaan soveltuvat kengät sekä juomapullon. Ryhmän ohjaajina toimivat Sari Haimi ja Tuija Puustinen. \nKevätkauden ensimmäinen jumppa on 10.1. ja viimeinen kerta on 4.4.\n7.2. ryhmäläisillä on mahdollisuus osallistua lasten Muumihiihtokouluun avustajan tehtävissä\nSyyslomaviikolla eli viikolla 9 ryhmä ei kokoonnu. \nLisätietoja ryhmästä antaa Sari Haimi (p.040 085 1620) tai Tuija Puustinen (p. 050 350 0613) \nTervetuloa mukaan ryhmään!
URL:https://valkealanlatu.fi/tapahtumat/venytellen-vetreaksi-liikuntaryhma-8/
LOCATION:Valkealan kirkonkylän urheilukentän huoltorakennus\, Toikkalantie 5\, Valkeala\, Kymenlaakso\, 45370\, Suomi
CATEGORIES:Jumppa
END:VEVENT
BEGIN:VEVENT
DTSTART;TZID=Europe/Helsinki:20170407T200000
DTEND;TZID=Europe/Helsinki:20170415T000000
DTSTAMP:20260426T043931
CREATED:20170119T232926Z
LAST-MODIFIED:20170219T193656Z
UID:575-1491595200-1492214400@valkealanlatu.fi
SUMMARY:Lapinmatka Ylläkselle
DESCRIPTION:Perinteinen hiihtomatka Ylläkselle viikolla 15. Lähtö perjantai-iltana 7.4.2017\, paluu lauantaina 15.4.2017.\nMajapaikat Huminan – Riemuliiterin läheisyydessä.\nMatkan hinta 400€ (sisältää matkan ja majoituksen).\nPAIKKOJA JÄLJELLÄ!\nTiedustelut ja varaukset:\nOlli Siukkola p. 041 544 9860 tai olli.siukkola@kymp.net.
URL:https://valkealanlatu.fi/tapahtumat/lapinmatka-yllakselle/
LOCATION:Ylläs\,  \, Äkäslompolo\, 95970\, Suomi
CATEGORIES:Hiihto
END:VEVENT
BEGIN:VEVENT
DTSTART;TZID=Europe/Helsinki:20170424T173000
DTEND;TZID=Europe/Helsinki:20170522T190000
DTSTAMP:20260426T043931
CREATED:20170406T162806Z
LAST-MODIFIED:20170406T163334Z
UID:729-1493055000-1495479600@valkealanlatu.fi
SUMMARY:Metsämörrikoulu
DESCRIPTION:Valkealan Latu ry järjestää Metsämörrikoulun 4-6 –vuotiaille lapsille. Metsämörrikoulussa tutustutaan luontoon yhdessä koulutettujen ohjaajien kanssa. Metsämörrikoulu kokoontuu huhti-/toukokuussa kerran viikossa noin 1\,5 tuntia kerrallaan. \nKoulussa: \n* opitaan tuntemaan luontoa\, kunnioittamaan ja suojelemaan sitä \n* havainnoidaan luontoa eri aistien kautta; näkö\, kuulo\, maku\, haju ja tunto \n* kehitetään lapsen minä -kuvaa luontoleikkien ja keskustelujen avulla \n  \nMetsämörrikoulu toimii joka säällä\, joten lapsi tarvitsee mukaan: \nVAATETUS SÄÄOLOSUHTEIDEN MUKAAN. RIITTÄVÄSTI LÄMMINTÄ VAATETTA PÄÄLLE. \nSAAPPAAT AINA \nREPPU \nISTUINALUSTA \nPIENET EVÄÄT; MUOVIRASIAAN JA PULLOON (ESIM. MEHUA\, LEIPÄÄ\, HEDELMIÄ) \nHUOM! EI MAKEISIA. Vaatteiden ei kannata olla uusimpia\, sillä metsässä ne saattavat likaantua ja kulua. \nMetsämörrikoulu kokoontuu: \n\nMa 24.4.2017 klo 17:30–19\nMa 8.5.2017 klo 17:30–19\nMa 15.5.2017 klo 17:30–19\nMa 22.5.2017 klo 17:30–19\n\nKokoontumispaikka: Toikkalantien hiihtoparkki Valkeala \nMörrikoulun hinta: Valkealan Ladun jäseniltä 5€\, muilta 15€/ lapsi. Maksu maksetaan käteisellä ensimmäisellä kerralla kouluun tullessa. \n  \nMÖRRIOHJAAJAT \nMaria 045 650 9457 \nMari 040 585 0509 \nLeena 040 522 5740 \n  \nLisätietoja ja ilmoittautumiset 17.4. mennessä Marille p. 040 585 0509 (klo 17-20) tai mari.pokki@gmail.com. Ilmoittautumisen yhteydessä pyydetään seuraavia tietoja: lapsen nimi ja ikä\, huoltajan yhteystiedot\, lapsen allergiat/ sairaudet ja onko latuyhdistyksen jäsen vai ei. \n 
URL:https://valkealanlatu.fi/tapahtumat/metsamorrikoulu/
LOCATION:Toikkalantien hiihtoparkki\, Valkeala\, 60.940399\,26.820825
CATEGORIES:Lasten toiminta
END:VEVENT
BEGIN:VEVENT
DTSTART;TZID=Europe/Helsinki:20170523T170000
DTEND;TZID=Europe/Helsinki:20170523T200000
DTSTAMP:20260426T043931
CREATED:20170406T183413Z
LAST-MODIFIED:20170406T183413Z
UID:751-1495558800-1495569600@valkealanlatu.fi
SUMMARY:Paaskosken retki
DESCRIPTION:Perinteinen koko perheen patikointiretki Paaskosken majalle 23.5. \nLähtö klo 17 Valkealatalon parkkipaikalta tai klo 18 Jyrääntien hiihtoparkista \nOhjelmassa mukavaa yhdessä oloa ja jutustelua makkaranpaiston ja kahvin/ mehun merkeissä. \n  \nIlmoittautumiset 15.5. mennessä Leena Ravantille p. 040 522 5740. \n  \nTervetuloa mukaan!
URL:https://valkealanlatu.fi/tapahtumat/paaskosken-retki/
LOCATION:Paaskosken Maja\, Karimäentie 90\, Kouvola\, Valkeala\, 45360\, Suomi
CATEGORIES:Perheliikunta
END:VEVENT
BEGIN:VEVENT
DTSTART;TZID=Europe/Helsinki:20170525T113000
DTEND;TZID=Europe/Helsinki:20170525T150000
DTSTAMP:20260426T043931
CREATED:20170406T181327Z
LAST-MODIFIED:20170406T181327Z
UID:740-1495711800-1495724400@valkealanlatu.fi
SUMMARY:Kiitos -tilaisuus talkoolaisille
DESCRIPTION:Orilammen Maja järjestää yhdessä Valkealan Latu ry:n kanssa Kiitos -tilaisuuden 25.5.2017 Repoveden ulkoilu- ja elämyspäivien talkoolaisille. \nOhjelmassa: klo 11:30 ruokailu (oma kustanteinen)\, klo 13-15 Kultareitti -risteily (Orilammen Maja tarjoaa) ja risteilyn jälkeen on mahdollisuus nautiskella päiväkahvista (oma kustanteinen). \nIlmoittautuminen omalle talkoo yhteyshenkilölle 4.5. mennessä \nTervetuloa talkoolaiset! \n 
URL:https://valkealanlatu.fi/tapahtumat/kiitos-tilaisuus-talkoolaisille/
LOCATION:Orilammen Maja\, Voikoskentie 138\, Kouvola\, Hillosensalmi\, 47910\, Suomi
END:VEVENT
BEGIN:VEVENT
DTSTART;TZID=Europe/Helsinki:20170728T100000
DTEND;TZID=Europe/Helsinki:20170729T140000
DTSTAMP:20260426T043931
CREATED:20170204T183418Z
LAST-MODIFIED:20170204T183418Z
UID:647-1501236000-1501336800@valkealanlatu.fi
SUMMARY:KymiVuoksi latualueen Kesäpäivät
DESCRIPTION:Tervetuloa KymiVuoksi latualueen Kesäpäiville Heinlahden leirikeskukseen Iittiin 28.-29.7.2017. Kesäpäivät alkavat lauantaina klo 10 ja päättyvät sunnuntaina klo 14. Kesäpäiville voi tulla käymään myös päiväseltään. \n  \n 
URL:https://valkealanlatu.fi/tapahtumat/kymivuoksi-latualueen-kesapaivat/
LOCATION:Heinlahdentie 154\, 47520 Iitti\, Heinlahdentie 154\, Suomi
END:VEVENT
BEGIN:VEVENT
DTSTART;TZID=Europe/Helsinki:20170826T090000
DTEND;TZID=Europe/Helsinki:20170826T180000
DTSTAMP:20260426T043931
CREATED:20170204T191735Z
LAST-MODIFIED:20170204T221448Z
UID:650-1503738000-1503770400@valkealanlatu.fi
SUMMARY:KymiVuoksi latualueen retki
DESCRIPTION:KymiVuoksi latualue järjestää retken Ulko-Tammioon Suomen luonnon päivänä 26.8.2017 klo 9-18 (lähtö takaisin Ulko-Tammiosta klo 16). Matka-aika on 2h. Ulko-Tammiossa tutustutaan saareen ja sen historiaan. Mahdollisuus myös geokätköilyyn. \n 
URL:https://valkealanlatu.fi/tapahtumat/kymivuoksi-latualueen-retki/
LOCATION:Kurkisuontie 262\, 55100 Imatra\, Kurkisuontie 262\, Imatra\, 55100\, Suomi
END:VEVENT
BEGIN:VEVENT
DTSTART;TZID=Europe/Helsinki:20170905T180000
DTEND;TZID=Europe/Helsinki:20170905T190000
DTSTAMP:20260426T043931
CREATED:20170821T133610Z
LAST-MODIFIED:20170821T133610Z
UID:781-1504634400-1504638000@valkealanlatu.fi
SUMMARY:Venytellen vetreäksi -jumpparyhmä
DESCRIPTION:Venytellen vetreäksi -jumpparyhmä aloittaa syyskauden tiistaina 5.9. klo 18-19. Ensimmäisellä kerralla ohjelmassa on sauvakävelyä. Kokoontuminen Valkealatalon parkkipaikan alkutunnelin luota. \nRyhmä jatkaa kokoontumisia joka tiistai klo 18-19. Syyskuussa ohjelmassa on ulkoliikuntaa.  19.9. frisbeegolf.  3.10. on viimeinen ulkoliikunta kerta. Tämän jälkeen siirrytään Valkealan urheilukentän huoltorakennukselle ja aloitetaan sisäliikuntakausi. \nTervetuloa mukaan!
URL:https://valkealanlatu.fi/tapahtumat/venytellen-vetreaksi-jumpparyhma/
CATEGORIES:Jumppa
END:VEVENT
BEGIN:VEVENT
DTSTART;TZID=Europe/Helsinki:20170909T000000
DTEND;TZID=Europe/Helsinki:20170916T000000
DTSTAMP:20260426T043931
CREATED:20170725T170849Z
LAST-MODIFIED:20170819T120927Z
UID:773-1504915200-1505520000@valkealanlatu.fi
SUMMARY:Ruskamatka Saariselälle
DESCRIPTION:Valkealan Latu ry järjestää ruskamatkan Saariselälle 9.-16.9.2017 (viikko 37). Huomio! Matkalle lähdetään jo perjantai iltana (8.9.). Majoitukset sijaitsevat keskustan välittömässä läheisyydessä. Matkan hinta on 400€ (sisältää matkan ja majoituksen). \nTiedustelut ja varaukset: Leena Syrjänen p. 050 443 3690.
URL:https://valkealanlatu.fi/tapahtumat/ruskamatka-saariselalle/
END:VEVENT
BEGIN:VEVENT
DTSTART;TZID=Europe/Helsinki:20170912T180000
DTEND;TZID=Europe/Helsinki:20170912T190000
DTSTAMP:20260426T043931
CREATED:20170821T134028Z
LAST-MODIFIED:20170821T134028Z
UID:783-1505239200-1505242800@valkealanlatu.fi
SUMMARY:Venytellen vetreäksi -jumpparyhmä
DESCRIPTION:Venytellen vetreäksi -jumpparyhmä kokoontuu joka tiistai klo 18-19. Syyskuussa ohjelmassa on ulkoliikuntaa.  19.9. frisbeegolf.  3.10. on viimeinen ulkoliikunta kerta. Tämän jälkeen siirrytään Valkealan urheilukentän huoltorakennukselle ja aloitetaan sisäliikuntakausi. \nTervetuloa mukaan!
URL:https://valkealanlatu.fi/tapahtumat/venytellen-vetreaksi-jumpparyhma-2/
CATEGORIES:Jumppa
END:VEVENT
BEGIN:VEVENT
DTSTART;TZID=Europe/Helsinki:20170919T180000
DTEND;TZID=Europe/Helsinki:20170919T190000
DTSTAMP:20260426T043931
CREATED:20170821T134252Z
LAST-MODIFIED:20170821T134252Z
UID:785-1505844000-1505847600@valkealanlatu.fi
SUMMARY:Venytellen vetreäksi -jumpparyhmä
DESCRIPTION:Venytellen vetreäksi -jumpparyhmä kokoontuu joka tiistai klo 18-19. Syyskuussa ohjelmassa on ulkoliikuntaa.  19.9. frisbeegolf.  3.10. on viimeinen ulkoliikunta kerta. Tämän jälkeen siirrytään Valkealan urheilukentän huoltorakennukselle ja aloitetaan sisäliikuntakausi. \nTervetuloa mukaan!
URL:https://valkealanlatu.fi/tapahtumat/venytellen-vetreaksi-jumpparyhma-3/
CATEGORIES:Jumppa
END:VEVENT
BEGIN:VEVENT
DTSTART;TZID=Europe/Helsinki:20170926T180000
DTEND;TZID=Europe/Helsinki:20170926T190000
DTSTAMP:20260426T043931
CREATED:20170821T134600Z
LAST-MODIFIED:20170821T134600Z
UID:787-1506448800-1506452400@valkealanlatu.fi
SUMMARY:Venytellen vetreäksi -jumpparyhmä
DESCRIPTION:Venytellen vetreäksi -jumpparyhmä kokoontuu joka tiistai klo 18-19. Syyskuussa ohjelmassa on ulkoliikuntaa.  19.9. frisbeegolf.  3.10. on viimeinen ulkoliikunta kerta. Tämän jälkeen siirrytään Valkealan urheilukentän huoltorakennukselle ja aloitetaan sisäliikuntakausi. \nTervetuloa mukaan!
URL:https://valkealanlatu.fi/tapahtumat/venytellen-vetreaksi-jumpparyhma-4/
CATEGORIES:Jumppa
END:VEVENT
BEGIN:VEVENT
DTSTART;TZID=Europe/Helsinki:20171003T180000
DTEND;TZID=Europe/Helsinki:20171003T190000
DTSTAMP:20260426T043931
CREATED:20170821T134741Z
LAST-MODIFIED:20170821T134741Z
UID:789-1507053600-1507057200@valkealanlatu.fi
SUMMARY:Venytellen vetreäksi -jumpparyhmä
DESCRIPTION:Venytellen vetreäksi -jumpparyhmä kokoontuu joka tiistai klo 18-19. Syyskuussa ohjelmassa on ulkoliikuntaa.  19.9. frisbeegolf.  3.10. on viimeinen ulkoliikunta kerta. Tämän jälkeen siirrytään Valkealan urheilukentän huoltorakennukselle ja aloitetaan sisäliikuntakausi. \nTervetuloa mukaan!
URL:https://valkealanlatu.fi/tapahtumat/venytellen-vetreaksi-jumpparyhma-5/
CATEGORIES:Jumppa
END:VEVENT
BEGIN:VEVENT
DTSTART;TZID=Europe/Helsinki:20171010T180000
DTEND;TZID=Europe/Helsinki:20171010T190000
DTSTAMP:20260426T043931
CREATED:20170821T135256Z
LAST-MODIFIED:20170821T135256Z
UID:791-1507658400-1507662000@valkealanlatu.fi
SUMMARY:Venytellen vetreäksi -jumpparyhmä
DESCRIPTION:Venytellen vetreäksi -jumpparyhmä kokoontuu joka tiistai klo 18-19.  Kokoontuminen Valkealan urheilukentän huoltorakennuksella. Ohjelmassa sisäliikuntaa. \nTervetuloa mukaan!
URL:https://valkealanlatu.fi/tapahtumat/venytellen-vetreaksi-jumpparyhma-6/
LOCATION:Valkealan kirkonkylän urheilukentän huoltorakennus\, Toikkalantie 5\, Valkeala\, Kymenlaakso\, 45370\, Suomi
CATEGORIES:Jumppa
END:VEVENT
BEGIN:VEVENT
DTSTART;TZID=Europe/Helsinki:20171017T180000
DTEND;TZID=Europe/Helsinki:20171017T190000
DTSTAMP:20260426T043931
CREATED:20170924T080106Z
LAST-MODIFIED:20170924T080106Z
UID:805-1508263200-1508266800@valkealanlatu.fi
SUMMARY:Venytellen vetreäksi -jumpparyhmä
DESCRIPTION:Venytellen vetreäksi -jumpparyhmä kokoontuu joka tiistai klo 18-19.  Kokoontuminen Valkealan urheilukentän huoltorakennuksella. Ohjelmassa sisäliikuntaa. Lisätietoja/ tiedustelut: Sari Haimi p. 040 085 1620 tai Tuija Puustinen p. 050 350 0613. \nTervetuloa mukaan!
URL:https://valkealanlatu.fi/tapahtumat/venytellen-vetreaksi-jumpparyhma-7/
LOCATION:Valkealan kirkonkylän urheilukentän huoltorakennus\, Toikkalantie 5\, Valkeala\, Kymenlaakso\, 45370\, Suomi
CATEGORIES:Jumppa
END:VEVENT
BEGIN:VEVENT
DTSTART;TZID=Europe/Helsinki:20171024T180000
DTEND;TZID=Europe/Helsinki:20171024T190000
DTSTAMP:20260426T043931
CREATED:20170924T080314Z
LAST-MODIFIED:20170924T080314Z
UID:808-1508868000-1508871600@valkealanlatu.fi
SUMMARY:Venytellen vetreäksi -jumpparyhmä
DESCRIPTION:Venytellen vetreäksi -jumpparyhmä kokoontuu joka tiistai klo 18-19.  Kokoontuminen Valkealan urheilukentän huoltorakennuksella. Ohjelmassa sisäliikuntaa. Lisätietoja/ tiedustelut: Sari Haimi p. 040 085 1620 tai Tuija Puustinen p. 050 350 0613. \nTervetuloa mukaan!
URL:https://valkealanlatu.fi/tapahtumat/venytellen-vetreaksi-jumpparyhma-8/
LOCATION:Valkealan kirkonkylän urheilukentän huoltorakennus\, Toikkalantie 5\, Valkeala\, Kymenlaakso\, 45370\, Suomi
CATEGORIES:Jumppa
END:VEVENT
BEGIN:VEVENT
DTSTART;TZID=Europe/Helsinki:20171031T180000
DTEND;TZID=Europe/Helsinki:20171031T190000
DTSTAMP:20260426T043931
CREATED:20170924T080522Z
LAST-MODIFIED:20170924T080522Z
UID:810-1509472800-1509476400@valkealanlatu.fi
SUMMARY:Venytellen vetreäksi -jumpparyhmä
DESCRIPTION:Venytellen vetreäksi -jumpparyhmä kokoontuu joka tiistai klo 18-19.  Kokoontuminen Valkealan urheilukentän huoltorakennuksella. Ohjelmassa sisäliikuntaa. Lisätietoja/ tiedustelut: Sari Haimi p. 040 085 1620 tai Tuija Puustinen p. 050 350 0613. \nTervetuloa mukaan!
URL:https://valkealanlatu.fi/tapahtumat/venytellen-vetreaksi-jumpparyhma-9/
LOCATION:Valkealan kirkonkylän urheilukentän huoltorakennus\, Toikkalantie 5\, Valkeala\, Kymenlaakso\, 45370\, Suomi
CATEGORIES:Jumppa
END:VEVENT
BEGIN:VEVENT
DTSTART;VALUE=DATE:20171104
DTEND;VALUE=DATE:20171105
DTSTAMP:20260426T043931
CREATED:20170924T072905Z
LAST-MODIFIED:20170924T072905Z
UID:795-1509753600-1509839999@valkealanlatu.fi
SUMMARY:Valkealan Latu ry:n 60-vuotisjuhla
DESCRIPTION:Tervetuloa jäsenet Valkealan Latu ry:n 60-vuotisjuhlaan 4.11.2017 klo 13 Valkealan Nuorisoseurantalolle (osoite: Kalevantie 8\, Valkeala). \nOhjelma: \nKlo 13 Saapuminen juhlapaikalle ja tervehdysten vastaanotto \nKlo 13:30 Tervehdyssanat \nKlo 13:45 Ruokailu \nKansantanssiesitys: Suiverot \nJuhlapuhe: Suomen Latu ry:n puheenjohtaja Pekka Alanen \nPalkitsemiset \nPyydetyt puheenvuorot \nMusiikkiesitys: Lohtutorttu \nYhteislaulu: Kymenlaakson laulu \nKahvi \nJuhlassa esiintyy Taikuri Peetu Kupiainen \n  \nV.p. 20.10. mennessä Leena Ravantille p. 040 522 5740 tai leena.ravantti@gmail.com. \n  \nMahdolliset muistamiset ja huomionosoitukset tilille FI76 5750 0140 1306 01 yhdistyksen toiminnan tukemiseksi.
URL:https://valkealanlatu.fi/tapahtumat/valkealan-latu-ryn-60-vuotisjuhla/
LOCATION:Valkealan Nuorisoseurantalo\, Kalevantie 8\, 45370 Valkeala\, Valkeala\, 45370\, Suomi
END:VEVENT
BEGIN:VEVENT
DTSTART;TZID=Europe/Helsinki:20171107T180000
DTEND;TZID=Europe/Helsinki:20171107T190000
DTSTAMP:20260426T043931
CREATED:20170924T080703Z
LAST-MODIFIED:20170924T080703Z
UID:812-1510077600-1510081200@valkealanlatu.fi
SUMMARY:Venytellen vetreäksi -jumpparyhmä
DESCRIPTION:Venytellen vetreäksi -jumpparyhmä kokoontuu joka tiistai klo 18-19.  Kokoontuminen Valkealan urheilukentän huoltorakennuksella. Ohjelmassa sisäliikuntaa. Lisätietoja/ tiedustelut: Sari Haimi p. 040 085 1620 tai Tuija Puustinen p. 050 350 0613. \nTervetuloa mukaan!
URL:https://valkealanlatu.fi/tapahtumat/venytellen-vetreaksi-jumpparyhma-10/
LOCATION:Valkealan kirkonkylän urheilukentän huoltorakennus\, Toikkalantie 5\, Valkeala\, Kymenlaakso\, 45370\, Suomi
CATEGORIES:Jumppa
END:VEVENT
BEGIN:VEVENT
DTSTART;TZID=Europe/Helsinki:20171114T180000
DTEND;TZID=Europe/Helsinki:20171114T190000
DTSTAMP:20260426T043931
CREATED:20170924T080835Z
LAST-MODIFIED:20170924T080835Z
UID:814-1510682400-1510686000@valkealanlatu.fi
SUMMARY:Venytellen vetreäksi -jumpparyhmä
DESCRIPTION:Venytellen vetreäksi -jumpparyhmä kokoontuu joka tiistai klo 18-19.  Kokoontuminen Valkealan urheilukentän huoltorakennuksella. Ohjelmassa sisäliikuntaa. Lisätietoja/ tiedustelut: Sari Haimi p. 040 085 1620 tai Tuija Puustinen p. 050 350 0613. \nTervetuloa mukaan!
URL:https://valkealanlatu.fi/tapahtumat/venytellen-vetreaksi-jumpparyhma-11/
LOCATION:Valkealan kirkonkylän urheilukentän huoltorakennus\, Toikkalantie 5\, Valkeala\, Kymenlaakso\, 45370\, Suomi
CATEGORIES:Jumppa
END:VEVENT
BEGIN:VEVENT
DTSTART;TZID=Europe/Helsinki:20171121T180000
DTEND;TZID=Europe/Helsinki:20171121T190000
DTSTAMP:20260426T043931
CREATED:20170924T080949Z
LAST-MODIFIED:20170924T080949Z
UID:816-1511287200-1511290800@valkealanlatu.fi
SUMMARY:Venytellen vetreäksi -jumpparyhmä
DESCRIPTION:Venytellen vetreäksi -jumpparyhmä kokoontuu joka tiistai klo 18-19.  Kokoontuminen Valkealan urheilukentän huoltorakennuksella. Ohjelmassa sisäliikuntaa. Lisätietoja/ tiedustelut: Sari Haimi p. 040 085 1620 tai Tuija Puustinen p. 050 350 0613. \nTervetuloa mukaan!
URL:https://valkealanlatu.fi/tapahtumat/venytellen-vetreaksi-jumpparyhma-12/
LOCATION:Valkealan kirkonkylän urheilukentän huoltorakennus\, Toikkalantie 5\, Valkeala\, Kymenlaakso\, 45370\, Suomi
CATEGORIES:Jumppa
END:VEVENT
BEGIN:VEVENT
DTSTART;TZID=Europe/Helsinki:20171128T180000
DTEND;TZID=Europe/Helsinki:20171128T190000
DTSTAMP:20260426T043931
CREATED:20170924T081148Z
LAST-MODIFIED:20170924T081642Z
UID:818-1511892000-1511895600@valkealanlatu.fi
SUMMARY:Venytellen vetreäksi -jumpparyhmä
DESCRIPTION:Venytellen vetreäksi -jumpparyhmä kokoontuu joka tiistai klo 18-19.  Kokoontuminen Valkealan urheilukentän huoltorakennuksella. Ohjelmassa sisäliikuntaa. Lisätietoja/ tiedustelut: Sari Haimi p. 040 085 1620 tai Tuija Puustinen p. 050 350 0613. \nHuom! 5.12. ei ole jumppaa. \n12.12. syyskauden päättäjäiset Harjunmäen laavulla. \nTervetuloa mukaan!
URL:https://valkealanlatu.fi/tapahtumat/venytellen-vetreaksi-jumpparyhma-13/
LOCATION:Valkealan kirkonkylän urheilukentän huoltorakennus\, Toikkalantie 5\, Valkeala\, Kymenlaakso\, 45370\, Suomi
CATEGORIES:Jumppa
END:VEVENT
BEGIN:VEVENT
DTSTART;VALUE=DATE:20171206
DTEND;VALUE=DATE:20171207
DTSTAMP:20260426T043931
CREATED:20170924T074219Z
LAST-MODIFIED:20170924T074219Z
UID:797-1512518400-1512604799@valkealanlatu.fi
SUMMARY:Suomi 100v. itsenäisyyspäiväpatikointi
DESCRIPTION:Tervetuloa Suomi 100v. itsenäisyyspäiväpatikoinnille Repoveden kansallispuistoon. \nLähtö patikoinnille Lapinsalmen parkkipaikalta klo 9:30. Kahvi- ja glögitarjoilu. \nTiedustelut: Sari Haimi p. 040 085 1620
URL:https://valkealanlatu.fi/tapahtumat/suomi-100v-itsenaisyyspaivapatikointi/
LOCATION:Lapinsalmi\, Riippusillantie 55\, Kouvola
CATEGORIES:Perheliikunta
END:VEVENT
BEGIN:VEVENT
DTSTART;TZID=Europe/Helsinki:20171212T180000
DTEND;TZID=Europe/Helsinki:20171212T190000
DTSTAMP:20260426T043931
CREATED:20170924T081537Z
LAST-MODIFIED:20170924T081537Z
UID:820-1513101600-1513105200@valkealanlatu.fi
SUMMARY:Venytellen vetreäksi -jumpparyhmä
DESCRIPTION:Venytellen vetreäksi -jumpparyhmän syyskauden päättäjäiset Harjunmäen laavulla (”Velin laavu”).  Kevätkausi alkaa 9.1.2018. \nLisätietoja/ tiedustelut: Sari Haimi p. 040 085 1620 tai Tuija Puustinen p. 050 350 0613. \nTervetuloa mukaan!
URL:https://valkealanlatu.fi/tapahtumat/venytellen-vetreaksi-jumpparyhma-14/
LOCATION:Valkealan Harjunmäen laavu\, 60.939140\, 26.815592
CATEGORIES:Jumppa
END:VEVENT
BEGIN:VEVENT
DTSTART;TZID=Europe/Helsinki:20180109T180000
DTEND;TZID=Europe/Helsinki:20180109T190000
DTSTAMP:20260426T043931
CREATED:20170924T081910Z
LAST-MODIFIED:20170924T081910Z
UID:823-1515520800-1515524400@valkealanlatu.fi
SUMMARY:Venytellen vetreäksi -jumpparyhmä
DESCRIPTION:Venytellen vetreäksi -jumpparyhmä kokoontuu joka tiistai klo 18-19. Kevätkauden aloitus.  Kokoontuminen Valkealan urheilukentän huoltorakennuksella. Ohjelmassa sisäliikuntaa. \nLisätietoja/ tiedustelut: Sari Haimi p. 040 085 1620 tai Tuija Puustinen p. 050 350 0613. \nTervetuloa mukaan!
URL:https://valkealanlatu.fi/tapahtumat/venytellen-vetreaksi-jumpparyhma-15/
LOCATION:Valkealan kirkonkylän urheilukentän huoltorakennus\, Toikkalantie 5\, Valkeala\, Kymenlaakso\, 45370\, Suomi
CATEGORIES:Jumppa
END:VEVENT
BEGIN:VEVENT
DTSTART;TZID=Europe/Helsinki:20180116T180000
DTEND;TZID=Europe/Helsinki:20180116T190000
DTSTAMP:20260426T043931
CREATED:20170924T082054Z
LAST-MODIFIED:20170924T082054Z
UID:825-1516125600-1516129200@valkealanlatu.fi
SUMMARY:Venytellen vetreäksi -jumpparyhmä
DESCRIPTION:Venytellen vetreäksi -jumpparyhmä kokoontuu joka tiistai klo 18-19.  Kokoontuminen Valkealan urheilukentän huoltorakennuksella. Ohjelmassa sisäliikuntaa. Lisätietoja/ tiedustelut: Sari Haimi p. 040 085 1620 tai Tuija Puustinen p. 050 350 0613. \nTervetuloa mukaan!
URL:https://valkealanlatu.fi/tapahtumat/venytellen-vetreaksi-jumpparyhma-16/
LOCATION:Valkealan kirkonkylän urheilukentän huoltorakennus\, Toikkalantie 5\, Valkeala\, Kymenlaakso\, 45370\, Suomi
CATEGORIES:Jumppa
END:VEVENT
BEGIN:VEVENT
DTSTART;TZID=Europe/Helsinki:20180123T180000
DTEND;TZID=Europe/Helsinki:20180123T190000
DTSTAMP:20260426T043931
CREATED:20170924T082314Z
LAST-MODIFIED:20170924T082314Z
UID:827-1516730400-1516734000@valkealanlatu.fi
SUMMARY:Venytellen vetreäksi -jumpparyhmä
DESCRIPTION:Venytellen vetreäksi -jumpparyhmä kokoontuu joka tiistai klo 18-19.  Kokoontuminen Valkealan urheilukentän huoltorakennuksella. Ohjelmassa sisäliikuntaa. Lisätietoja/ tiedustelut: Sari Haimi p. 040 085 1620 tai Tuija Puustinen p. 050 350 0613. \nTervetuloa mukaan!
URL:https://valkealanlatu.fi/tapahtumat/venytellen-vetreaksi-jumpparyhma-17/
LOCATION:Valkealan kirkonkylän urheilukentän huoltorakennus\, Toikkalantie 5\, Valkeala\, Kymenlaakso\, 45370\, Suomi
CATEGORIES:Jumppa
END:VEVENT
BEGIN:VEVENT
DTSTART;TZID=Europe/Helsinki:20180130T180000
DTEND;TZID=Europe/Helsinki:20180130T190000
DTSTAMP:20260426T043931
CREATED:20170924T085203Z
LAST-MODIFIED:20170924T085203Z
UID:829-1517335200-1517338800@valkealanlatu.fi
SUMMARY:Venytellen vetreäksi -jumpparyhmä
DESCRIPTION:Venytellen vetreäksi -jumpparyhmä kokoontuu joka tiistai klo 18-19.  Kokoontuminen Valkealan urheilukentän huoltorakennuksella. Ohjelmassa sisäliikuntaa. Lisätietoja/ tiedustelut: Sari Haimi p. 040 085 1620 tai Tuija Puustinen p. 050 350 0613. \nTervetuloa mukaan!
URL:https://valkealanlatu.fi/tapahtumat/venytellen-vetreaksi-jumpparyhma-18/
LOCATION:Valkealan kirkonkylän urheilukentän huoltorakennus\, Toikkalantie 5\, Valkeala\, Kymenlaakso\, 45370\, Suomi
CATEGORIES:Jumppa
END:VEVENT
BEGIN:VEVENT
DTSTART;TZID=Europe/Helsinki:20180206T164500
DTEND;TZID=Europe/Helsinki:20180207T183000
DTSTAMP:20260426T043931
CREATED:20171220T211817Z
LAST-MODIFIED:20180114T165331Z
UID:845-1517935500-1518028200@valkealanlatu.fi
SUMMARY:Muumi- hiihtokoulu ja aikuisten hiihtokoulu
DESCRIPTION:Valkealan Latu ry järjestää yhdessä Valkealan Kajon kanssa Muumien hiihtokoulun lapsille ja aikuisten hiihtokoulun 6.-7.2.2018 klo 16:45-18:30 Valkealan kirkonkylän urheilukentällä. Säävaraus: Mikäli pakkasta on yli 17 astetta\, peruuntuu hiihtokoulu. \n  \nRyhmät: \nPikku-Myyt 4 vuotta (ilman huoltajaa) \nMuumipeikot 5 vuotta \nNipsut 6 vuotta \nHiihtomaisterit 7-8 vuotta \nLuistelutekniikka/ Skicross 9-14 vuotta \n  \nHinta: 10 € kaksi iltaa\, sisaralennus 2€   ja   5€ yksi ilta \nHintaan sisältyy hiihdon ohjaus\, todistus ja mehutarjoilu. \n  \nMuumihiihtokoulun vastaavana ohjaajana toimii Maria Rimpiläinen. \n  \nAikuisten hiihtokoulun ohjauksesta vastaa Valkealan Kajon hiihtojaosto. Hiihtokoulun aiheena on perinteinen ja luisteluhiihto. Aikuisten hiihtokoulun hinta on 10€ kaksi iltaa ja 5€ yksi ilta. \n  \nIlmoittautumiset hiihtokouluihin 28.1. mennessä SOITTAMALLA Leena Ravantille p. 040 522 5740. \n  \nMuumien hiihtokoulu esite
URL:https://valkealanlatu.fi/tapahtumat/muumi-hiihtokoulu-ja-aikuisten-hiihtokoulu/
LOCATION:Valkealan kirkonkylän urheilukenttä\, Toikkalantie 5\, Valkeala\, Kymenlaakso\, 45370\, Suomi
CATEGORIES:Hiihto,Lasten toiminta,Perheliikunta
END:VEVENT
END:VCALENDAR