BEGIN:VCALENDAR
VERSION:2.0
PRODID:-//Valkealan Latu - ECPv6.0.10//NONSGML v1.0//EN
CALSCALE:GREGORIAN
METHOD:PUBLISH
X-ORIGINAL-URL:https://valkealanlatu.fi
X-WR-CALDESC:Tapahtumat Valkealan Latu
REFRESH-INTERVAL;VALUE=DURATION:PT1H
X-Robots-Tag:noindex
X-PUBLISHED-TTL:PT1H
BEGIN:VTIMEZONE
TZID:Europe/Helsinki
BEGIN:DAYLIGHT
TZOFFSETFROM:+0200
TZOFFSETTO:+0300
TZNAME:EEST
DTSTART:20180325T010000
END:DAYLIGHT
BEGIN:STANDARD
TZOFFSETFROM:+0300
TZOFFSETTO:+0200
TZNAME:EET
DTSTART:20181028T010000
END:STANDARD
BEGIN:DAYLIGHT
TZOFFSETFROM:+0200
TZOFFSETTO:+0300
TZNAME:EEST
DTSTART:20190331T010000
END:DAYLIGHT
BEGIN:STANDARD
TZOFFSETFROM:+0300
TZOFFSETTO:+0200
TZNAME:EET
DTSTART:20191027T010000
END:STANDARD
END:VTIMEZONE
BEGIN:VEVENT
DTSTART;TZID=Europe/Helsinki:20180320T180000
DTEND;TZID=Europe/Helsinki:20180320T190000
DTSTAMP:20260425T141810
CREATED:20180106T181926Z
LAST-MODIFIED:20180106T181926Z
UID:882-1521568800-1521572400@valkealanlatu.fi
SUMMARY:Venytellen vetreäksi -jumpparyhmä
DESCRIPTION:Venytellen vetreäksi -jumpparyhmä kokoontuu joka tiistai klo 18-19 Valkealan urheilukentän huoltorakennuksella. \nLisätietoja/ tiedustelut: Sari Haimi p. 040 085 1620 tai Tuija Puustinen p. 050 350 0613. \nTervetuloa mukaan!
URL:https://valkealanlatu.fi/tapahtumat/venytellen-vetreaksi-jumpparyhma-26/
LOCATION:Valkealan kirkonkylän urheilukentän huoltorakennus\, Toikkalantie 5\, Valkeala\, Kymenlaakso\, 45370\, Suomi
CATEGORIES:Jumppa
END:VEVENT
BEGIN:VEVENT
DTSTART;TZID=Europe/Helsinki:20180327T180000
DTEND;TZID=Europe/Helsinki:20180327T190000
DTSTAMP:20260425T141810
CREATED:20170924T085811Z
LAST-MODIFIED:20170924T085811Z
UID:831-1522173600-1522177200@valkealanlatu.fi
SUMMARY:Venytellen vetreäksi -jumpparyhmä
DESCRIPTION:Venytellen vetreäksi -jumpparyhmän kevätkauden viimeinen jumppa 3.4.2018. \nLisätietoja/ tiedustelut: Sari Haimi p. 040 085 1620 tai Tuija Puustinen p. 050 350 0613. \nTervetuloa mukaan!
URL:https://valkealanlatu.fi/tapahtumat/venytellen-vetreaksi-jumpparyhma-19/
LOCATION:Valkealan kirkonkylän urheilukentän huoltorakennus\, Toikkalantie 5\, Valkeala\, Kymenlaakso\, 45370\, Suomi
CATEGORIES:Jumppa
END:VEVENT
BEGIN:VEVENT
DTSTART;TZID=Europe/Helsinki:20180403T180000
DTEND;TZID=Europe/Helsinki:20180403T190000
DTSTAMP:20260425T141810
CREATED:20170924T090025Z
LAST-MODIFIED:20170924T090025Z
UID:833-1522778400-1522782000@valkealanlatu.fi
SUMMARY:Venytellen vetreäksi -jumpparyhmä
DESCRIPTION:Venytellen vetreäksi -jumpparyhmä kokoontuu klo 18-19. Kevätkauden viimeinen kerta.  Kokoontuminen Valkealan urheilukentän huoltorakennuksella. \nLisätietoja/ tiedustelut: Sari Haimi p. 040 085 1620 tai Tuija Puustinen p. 050 350 0613. \nTervetuloa mukaan!
URL:https://valkealanlatu.fi/tapahtumat/venytellen-vetreaksi-jumpparyhma-20/
LOCATION:Valkealan kirkonkylän urheilukentän huoltorakennus\, Toikkalantie 5\, Valkeala\, Kymenlaakso\, 45370\, Suomi
END:VEVENT
BEGIN:VEVENT
DTSTART;TZID=Europe/Helsinki:20180406T213000
DTEND;TZID=Europe/Helsinki:20180414T210000
DTSTAMP:20260425T141810
CREATED:20170924T074923Z
LAST-MODIFIED:20180106T175241Z
UID:803-1523050200-1523739600@valkealanlatu.fi
SUMMARY:Hiihtomatka Ylläkselle
DESCRIPTION:Valkealan Latu ry järjestää hiihtomatkan Ylläkselle 6.-14.4.2018 (vko 15). \nLisätiedot ja tiedustelut: Tuija Puustinen p. 050 350 0613.
URL:https://valkealanlatu.fi/tapahtumat/hiihtomatka-yllakselle/
LOCATION:Ylläs\,  \, Äkäslompolo\, 95970\, Suomi
END:VEVENT
BEGIN:VEVENT
DTSTART;TZID=Europe/Helsinki:20180515T170000
DTEND;TZID=Europe/Helsinki:20180515T210000
DTSTAMP:20260425T141810
CREATED:20180419T191025Z
LAST-MODIFIED:20180419T191025Z
UID:934-1526403600-1526418000@valkealanlatu.fi
SUMMARY:Patikointiretki Paaskosken majalle
DESCRIPTION:Valkealan Latu ry järjestää perinteisen patikointiretken Paaskosken majalle 15.5.2018. Lähtö Valkealatalolta klo 17 tai Jyrääntien hiihtoparkista klo 18. \nPaaskoskella tarjolla makkaraa\, kahvia ja mehua sekä mukavaa yhdessä oloa. Tervetuloa! \n  \nIlmoittautumiset 11.5.2018 mennessä Leena Ravantille p. 040 522 5740.
URL:https://valkealanlatu.fi/tapahtumat/patikointiretki-paaskosken-majalle/
LOCATION:Paaskosken Maja\, Karimäentie 90\, Kouvola\, Valkeala\, 45360\, Suomi
CATEGORIES:Patikointi,Perheliikunta
END:VEVENT
BEGIN:VEVENT
DTSTART;TZID=Europe/Helsinki:20180604T180000
DTEND;TZID=Europe/Helsinki:20180604T200000
DTSTAMP:20260425T141810
CREATED:20180521T085439Z
LAST-MODIFIED:20180521T085439Z
UID:937-1528135200-1528142400@valkealanlatu.fi
SUMMARY:Frisbeegolf -kurssi 4.6.2018
DESCRIPTION:Frisbeegolf -kurssi Valkealan Latu ry:n jäsenille 4.6. klo 18-20 Valkealan urheilukentällä. Kurssilla opetellaan eri heittotekniikoita\, kiekkojen valintaa ja sääntöjä. Kurssi on ilmainen ja mukaan mahtuu 10 ensimmäiseksi ilmoittautunutta. Ikäraja 6-99 vuotta. Aiempaa kokemusta ei tarvita. Tiedustelut ja ilmoittautumiset 1.6. mennessä: Olli Siukkola p. 041 544 9860.
URL:https://valkealanlatu.fi/tapahtumat/frisbeegolf-kurssi-4-6-2018/
LOCATION:Valkealan kirkonkylän urheilukenttä\, Toikkalantie 5\, Valkeala\, Kymenlaakso\, 45370\, Suomi
CATEGORIES:Frisbeegolf
END:VEVENT
BEGIN:VEVENT
DTSTART;TZID=Europe/Helsinki:20180904T180000
DTEND;TZID=Europe/Helsinki:20180904T190000
DTSTAMP:20260425T141810
CREATED:20180827T191838Z
LAST-MODIFIED:20180827T191838Z
UID:941-1536084000-1536087600@valkealanlatu.fi
SUMMARY:Venytellen vetreäksi -jumpparyhmä
DESCRIPTION:Valkealan Latu ry:n Venytellen vetreäksi -jumpparyhmä aloittaa syyskauden 4.9. sauvakävelyn merkeissä. Kokoontuminen urheilukentän huoltorakennuksen luona klo 18. Syyskuun ohjelmassa on sauvakävelyä ja lokakuusta alkaen siirrytään sisälle jumppaamaan. Ilmoittautumista ei tarvita. Tervetuloa mukaan! Tiedustelut: Tuija Puustinen p. 050 350 0613.
URL:https://valkealanlatu.fi/tapahtumat/venytellen-vetreaksi-jumpparyhma-27/
LOCATION:Valkealan kirkonkylän urheilukentän huoltorakennus\, Toikkalantie 5\, Valkeala\, Kymenlaakso\, 45370\, Suomi
CATEGORIES:Jumppa
END:VEVENT
BEGIN:VEVENT
DTSTART;TZID=Europe/Helsinki:20180907T210000
DTEND;TZID=Europe/Helsinki:20180915T210000
DTSTAMP:20260425T141810
CREATED:20180106T183353Z
LAST-MODIFIED:20180419T190119Z
UID:884-1536354000-1537045200@valkealanlatu.fi
SUMMARY:Ruskamatka Saariselälle
DESCRIPTION:Valkealan Latu ry järjestää ruskamatkan Saariselälle 7.-15.9.2018 (vko 37). \nTiedustelut ja varaukset: Tuija Puustinen p. 050 350 0613.
URL:https://valkealanlatu.fi/tapahtumat/ruskamatka-saariselalle-2/
CATEGORIES:Patikointi
END:VEVENT
BEGIN:VEVENT
DTSTART;TZID=Europe/Helsinki:20180911T180000
DTEND;TZID=Europe/Helsinki:20180911T190000
DTSTAMP:20260425T141810
CREATED:20180827T193434Z
LAST-MODIFIED:20180827T193434Z
UID:943-1536688800-1536692400@valkealanlatu.fi
SUMMARY:Venytellen vetreäksi -jumpparyhmä
DESCRIPTION:Venytellen vetreäksi -jumpparyhmä kokoontuu joka tiistai klo 18-19 Valkealan urheilukentän huoltorakennuksella. Syyskuun ohjelmassa on sauvakävelyä ja lokakuussa siirrytään sisätiloihin jumppaamaan. Lisätietoja/ tiedustelut: Sari Haimi p. 040 085 1620 tai Tuija Puustinen p. 050 350 0613. Tervetuloa mukaan!
URL:https://valkealanlatu.fi/tapahtumat/venytellen-vetreaksi-jumpparyhma-28/
LOCATION:Valkealan kirkonkylän urheilukentän huoltorakennus\, Toikkalantie 5\, Valkeala\, Kymenlaakso\, 45370\, Suomi
CATEGORIES:Jumppa
END:VEVENT
BEGIN:VEVENT
DTSTART;TZID=Europe/Helsinki:20181023T180000
DTEND;TZID=Europe/Helsinki:20181023T190000
DTSTAMP:20260425T141810
CREATED:20181020T183033Z
LAST-MODIFIED:20181020T183033Z
UID:983-1540317600-1540321200@valkealanlatu.fi
SUMMARY:Venytellen vetreäksi -jumpparyhmä
DESCRIPTION:Venytellen vetreäksi -jumpparyhmä kokoontuu joka tiistai klo 18-19 Valkealan urheilukentän huoltorakennuksella. \nLisätietoja/ tiedustelut: Sari Haimi p. 040 085 1620 tai Tuija Puustinen p. 050 350 0613. \nTervetuloa mukaan!
URL:https://valkealanlatu.fi/tapahtumat/venytellen-vetreaksi-jumpparyhma-29/
LOCATION:Valkealan kirkonkylän urheilukentän huoltorakennus\, Toikkalantie 5\, Valkeala\, Kymenlaakso\, 45370\, Suomi
CATEGORIES:Jumppa
END:VEVENT
BEGIN:VEVENT
DTSTART;TZID=Europe/Helsinki:20181030T180000
DTEND;TZID=Europe/Helsinki:20181030T190000
DTSTAMP:20260425T141810
CREATED:20181023T073211Z
LAST-MODIFIED:20181023T073211Z
UID:995-1540922400-1540926000@valkealanlatu.fi
SUMMARY:Venytellen vetreäksi -jumpparyhmä
DESCRIPTION:Valkealan Latu ry:n järjestämä Venytellen vetreäksi -liikuntaryhmä kokoontuu kerran viikossa tiistaisin klo 18-19 Valkealan urheilukentän huoltorakennuksessa. Jumppa toteutuu sisätiloissa\, joten mukaan tarvitset jumppaan soveltuvat joustavat vaatteet\, tossut tai sisäliikuntaan soveltuvat kengät sekä juomapullon. Ryhmän ohjaajina toimivat Sari Haimi ja Tuija Puustinen. \n\nSyyskauden päätös toteutuu 6.12. itsenäisyyspäivän patikoinnin merkeissä Repoveden kansallispuistossa (katso tapahtumakalenterista: Itsenäisyyspäiväkävely). \n\nLisätietoja ryhmästä antavat Sari Haimi (p.040 085 1620) tai Tuija Puustinen (p. 050 350 0613) \nTervetuloa mukaan ryhmään!
URL:https://valkealanlatu.fi/tapahtumat/venytellen-vetreaksi-jumpparyhma-30/
LOCATION:Valkealan kirkonkylän urheilukentän huoltorakennus\, Toikkalantie 5\, Valkeala\, Kymenlaakso\, 45370\, Suomi
CATEGORIES:Jumppa
END:VEVENT
BEGIN:VEVENT
DTSTART;TZID=Europe/Helsinki:20181106T180000
DTEND;TZID=Europe/Helsinki:20181106T190000
DTSTAMP:20260425T141810
CREATED:20181023T073348Z
LAST-MODIFIED:20181023T073348Z
UID:998-1541527200-1541530800@valkealanlatu.fi
SUMMARY:Venytellen vetreäksi -jumpparyhmä
DESCRIPTION:Valkealan Latu ry:n järjestämä Venytellen vetreäksi -liikuntaryhmä kokoontuu kerran viikossa tiistaisin klo 18-19 Valkealan urheilukentän huoltorakennuksessa. Jumppa toteutuu sisätiloissa\, joten mukaan tarvitset jumppaan soveltuvat joustavat vaatteet\, tossut tai sisäliikuntaan soveltuvat kengät sekä juomapullon. Ryhmän ohjaajina toimivat Sari Haimi ja Tuija Puustinen. \n\nSyyskauden päätös toteutuu 6.12. itsenäisyyspäivän patikoinnin merkeissä Repoveden kansallispuistossa (katso tapahtumakalenterista: Itsenäisyyspäiväkävely). \n\nLisätietoja ryhmästä antavat Sari Haimi (p.040 085 1620) tai Tuija Puustinen (p. 050 350 0613) \nTervetuloa mukaan ryhmään!
URL:https://valkealanlatu.fi/tapahtumat/venytellen-vetreaksi-jumpparyhma-31/
LOCATION:Valkealan kirkonkylän urheilukentän huoltorakennus\, Toikkalantie 5\, Valkeala\, Kymenlaakso\, 45370\, Suomi
CATEGORIES:Jumppa
END:VEVENT
BEGIN:VEVENT
DTSTART;TZID=Europe/Helsinki:20181112T190000
DTEND;TZID=Europe/Helsinki:20181112T190000
DTSTAMP:20260425T141810
CREATED:20181020T070203Z
LAST-MODIFIED:20181020T070203Z
UID:966-1542049200-1542049200@valkealanlatu.fi
SUMMARY:Syyskokous
DESCRIPTION:Valkealan Latu ry:n Syyskokous pidetään 12.11.2018 klo 19 Valkealatalolla. Kokouksessa käsitellään sääntöjen 13§ määräämät asiat. Tervetuloa mukaan! Hallitus
URL:https://valkealanlatu.fi/tapahtumat/syyskokous/
LOCATION:Valkealatalo\, Toikkalantie 5\, Kouvola\, 45370
END:VEVENT
BEGIN:VEVENT
DTSTART;TZID=Europe/Helsinki:20181113T180000
DTEND;TZID=Europe/Helsinki:20181113T190000
DTSTAMP:20260425T141810
CREATED:20181023T073510Z
LAST-MODIFIED:20181023T073510Z
UID:1000-1542132000-1542135600@valkealanlatu.fi
SUMMARY:Venytellen vetreäksi -jumpparyhmä
DESCRIPTION:Valkealan Latu ry:n järjestämä Venytellen vetreäksi -liikuntaryhmä kokoontuu kerran viikossa tiistaisin klo 18-19 Valkealan urheilukentän huoltorakennuksessa. Jumppa toteutuu sisätiloissa\, joten mukaan tarvitset jumppaan soveltuvat joustavat vaatteet\, tossut tai sisäliikuntaan soveltuvat kengät sekä juomapullon. Ryhmän ohjaajina toimivat Sari Haimi ja Tuija Puustinen. \n\nSyyskauden päätös toteutuu 6.12. itsenäisyyspäivän patikoinnin merkeissä Repoveden kansallispuistossa (katso tapahtumakalenterista: Itsenäisyyspäiväkävely). \n\nLisätietoja ryhmästä antavat Sari Haimi (p.040 085 1620) tai Tuija Puustinen (p. 050 350 0613) \nTervetuloa mukaan ryhmään!
URL:https://valkealanlatu.fi/tapahtumat/venytellen-vetreaksi-jumpparyhma-32/
LOCATION:Valkealan kirkonkylän urheilukentän huoltorakennus\, Toikkalantie 5\, Valkeala\, Kymenlaakso\, 45370\, Suomi
CATEGORIES:Jumppa
END:VEVENT
BEGIN:VEVENT
DTSTART;TZID=Europe/Helsinki:20181120T180000
DTEND;TZID=Europe/Helsinki:20181120T190000
DTSTAMP:20260425T141810
CREATED:20181023T073632Z
LAST-MODIFIED:20181023T073632Z
UID:1002-1542736800-1542740400@valkealanlatu.fi
SUMMARY:Venytellen vetreäksi -jumpparyhmä
DESCRIPTION:Valkealan Latu ry:n järjestämä Venytellen vetreäksi -liikuntaryhmä kokoontuu kerran viikossa tiistaisin klo 18-19 Valkealan urheilukentän huoltorakennuksessa. Jumppa toteutuu sisätiloissa\, joten mukaan tarvitset jumppaan soveltuvat joustavat vaatteet\, tossut tai sisäliikuntaan soveltuvat kengät sekä juomapullon. Ryhmän ohjaajina toimivat Sari Haimi ja Tuija Puustinen. \n\nSyyskauden päätös toteutuu 6.12. itsenäisyyspäivän patikoinnin merkeissä Repoveden kansallispuistossa (katso tapahtumakalenterista: Itsenäisyyspäiväkävely). \n\nLisätietoja ryhmästä antavat Sari Haimi (p.040 085 1620) tai Tuija Puustinen (p. 050 350 0613) \nTervetuloa mukaan ryhmään!
URL:https://valkealanlatu.fi/tapahtumat/venytellen-vetreaksi-jumpparyhma-33/
LOCATION:Valkealan kirkonkylän urheilukentän huoltorakennus\, Toikkalantie 5\, Valkeala\, Kymenlaakso\, 45370\, Suomi
CATEGORIES:Jumppa
END:VEVENT
BEGIN:VEVENT
DTSTART;TZID=Europe/Helsinki:20181127T180000
DTEND;TZID=Europe/Helsinki:20181127T190000
DTSTAMP:20260425T141810
CREATED:20181023T073802Z
LAST-MODIFIED:20181023T074721Z
UID:1004-1543341600-1543345200@valkealanlatu.fi
SUMMARY:Venytellen vetreäksi -jumpparyhmä
DESCRIPTION:Valkealan Latu ry:n järjestämä Venytellen vetreäksi -liikuntaryhmä kokoontuu kerran viikossa tiistaisin klo 18-19 Valkealan urheilukentän huoltorakennuksessa. Jumppa toteutuu sisätiloissa\, joten mukaan tarvitset jumppaan soveltuvat joustavat vaatteet\, tossut tai sisäliikuntaan soveltuvat kengät sekä juomapullon. Ryhmän ohjaajina toimivat Sari Haimi ja Tuija Puustinen. \n\nSyyskauden päätös toteutuu 6.12. itsenäisyyspäivän patikoinnin merkeissä Repoveden kansallispuistossa (katso tapahtumakalenterista: Itsenäisyyspäiväkävely). Kevätkauden aloitus 8.1.2019. \n\nLisätietoja ryhmästä antavat Sari Haimi (p.040 085 1620) tai Tuija Puustinen (p. 050 350 0613) \nTervetuloa mukaan ryhmään!
URL:https://valkealanlatu.fi/tapahtumat/venytellen-vetreaksi-jumpparyhma-34/
LOCATION:Valkealan kirkonkylän urheilukentän huoltorakennus\, Toikkalantie 5\, Valkeala\, Kymenlaakso\, 45370\, Suomi
CATEGORIES:Jumppa
END:VEVENT
BEGIN:VEVENT
DTSTART;TZID=Europe/Helsinki:20181206T093000
DTEND;TZID=Europe/Helsinki:20181206T140000
DTSTAMP:20260425T141810
CREATED:20180106T184015Z
LAST-MODIFIED:20181020T183337Z
UID:887-1544088600-1544104800@valkealanlatu.fi
SUMMARY:Itsenäisyyspäiväkävely         HUOM! Lähtöpaikka on muuttunut.
DESCRIPTION:Valkealan Latu ry järjestää perinteisen itsenäisyyspäiväkävelyn Repoveden kansallispuistoon 6.12.2018. Lähtö Tervajärven parkkipaikalta klo 10. Määkijän kodalla on kahvi- ja glögitarjoilu. \nTiedustelut: Tuija Puustinen p.050 350 0613 klo 17 jälkeen tai sähköpostitse puustinentuija@gmail.com.
URL:https://valkealanlatu.fi/tapahtumat/itsenaisyyspaivakavely/
LOCATION:Lapinsalmi\, Riippusillantie 55\, Kouvola
CATEGORIES:Patikointi
END:VEVENT
BEGIN:VEVENT
DTSTART;TZID=Europe/Helsinki:20190108T180000
DTEND;TZID=Europe/Helsinki:20190108T190000
DTSTAMP:20260425T141810
CREATED:20181023T074335Z
LAST-MODIFIED:20181023T074335Z
UID:1008-1546970400-1546974000@valkealanlatu.fi
SUMMARY:Venytellen vetreäksi -jumpparyhmä
DESCRIPTION:Valkealan Latu ry:n järjestämä Venytellen vetreäksi -liikuntaryhmä kokoontuu kerran viikossa tiistaisin klo 18-19 Valkealan urheilukentän huoltorakennuksessa. Jumppa toteutuu sisätiloissa\, joten mukaan tarvitset jumppaan soveltuvat joustavat vaatteet\, tossut tai sisäliikuntaan soveltuvat kengät sekä juomapullon. Ryhmän ohjaajina toimivat Sari Haimi ja Tuija Puustinen. \n\nKevätkauden aloitus 8.1.2019. \n\nLisätietoja ryhmästä antavat Sari Haimi (p.040 085 1620) tai Tuija Puustinen (p. 050 350 0613) \nTervetuloa mukaan ryhmään!
URL:https://valkealanlatu.fi/tapahtumat/venytellen-vetreaksi-jumpparyhma-35/
LOCATION:Valkealan kirkonkylän urheilukentän huoltorakennus\, Toikkalantie 5\, Valkeala\, Kymenlaakso\, 45370\, Suomi
CATEGORIES:Jumppa
END:VEVENT
BEGIN:VEVENT
DTSTART;TZID=Europe/Helsinki:20190112T150000
DTEND;TZID=Europe/Helsinki:20190112T180000
DTSTAMP:20260425T141810
CREATED:20181213T194436Z
LAST-MODIFIED:20181213T194436Z
UID:1016-1547305200-1547316000@valkealanlatu.fi
SUMMARY:Kauden päättäjäiset
DESCRIPTION:Valkealan Latu ry:n kauden päättäjäiset järjestetään 12.1. klo 15 alkaen Valkealan Nuorisoseurantalolla. Ohjelmassa ruokailu ja kahvit sekä pientä ajanvietettä. Ruokailun omavastuu aikuiselta 10€ ja lapselta 5€ (alle 4v ilmainen). Omavastuu kerätään ovella. Ilmoittautumiset 30.12. mennessä Leena Ravantille p. 040 522 5740. Tervetuloa jäsenet!
URL:https://valkealanlatu.fi/tapahtumat/kauden-paattajaiset/
LOCATION:Valkealan Nuorisoseurantalo\, Kalevantie 8\, 45370 Valkeala\, Valkeala\, 45370\, Suomi
END:VEVENT
BEGIN:VEVENT
DTSTART;TZID=Europe/Helsinki:20190115T180000
DTEND;TZID=Europe/Helsinki:20190115T190000
DTSTAMP:20260425T141810
CREATED:20181023T074634Z
LAST-MODIFIED:20181023T074634Z
UID:1010-1547575200-1547578800@valkealanlatu.fi
SUMMARY:Venytellen vetreäksi -jumpparyhmä
DESCRIPTION:Valkealan Latu ry:n järjestämä Venytellen vetreäksi -liikuntaryhmä kokoontuu kerran viikossa tiistaisin klo 18-19 Valkealan urheilukentän huoltorakennuksessa. Jumppa toteutuu sisätiloissa\, joten mukaan tarvitset jumppaan soveltuvat joustavat vaatteet\, tossut tai sisäliikuntaan soveltuvat kengät sekä juomapullon. Ryhmän ohjaajina toimivat Sari Haimi ja Tuija Puustinen. \n\nLisätietoja ryhmästä antavat Sari Haimi (p.040 085 1620) tai Tuija Puustinen (p. 050 350 0613) \n\nTervetuloa mukaan ryhmään!
URL:https://valkealanlatu.fi/tapahtumat/venytellen-vetreaksi-jumpparyhma-36/
LOCATION:Valkealan kirkonkylän urheilukentän huoltorakennus\, Toikkalantie 5\, Valkeala\, Kymenlaakso\, 45370\, Suomi
CATEGORIES:Jumppa
END:VEVENT
BEGIN:VEVENT
DTSTART;TZID=Europe/Helsinki:20190205T164500
DTEND;TZID=Europe/Helsinki:20190206T183000
DTSTAMP:20260425T141810
CREATED:20181019T190644Z
LAST-MODIFIED:20181020T180921Z
UID:962-1549385100-1549477800@valkealanlatu.fi
SUMMARY:Muumi -hiihtokoulu ja aikuisten hiihtokoulu
DESCRIPTION:Valkealan Latu ry järjestää yhdessä Valkealan Kajon hiihtojaoston kanssa Muumi -hiihtokoulun ja aikuisten hiihtokoulun 5.-6.2.2019 Valkealan kirkonkylän urheilukentällä. \nRyhmät: \nPikku-Myyt 4 vuotta (ilman huoltajaa) \nMuumipeikot 5 vuotta \nNipsut 6 vuotta \nHiihtomaisterit 7-8 vuotta \nLuistelutekniikka/ Skicross 9-14 vuotta \n  \nHinta: 10€ kaksi iltaa\, sisarusalennus 2€ \n5€ yksi ilta \nHintaan sisältyy hiihdon ohjaus\, todistus ja mehutarjoilu. \nMuumihiihtokoulun vastaavana ohjaajana toimii Maria Rimpiläinen. \n  \nAikuisten hiihtokoulun ohjauksesta vastaa Valkealan Kajon hiihtojaosto. Hiihtokoulun aiheena on perinteinen ja luisteluhiihto. Aikuisten hiihtokoulun hinta on 10€ kaksi iltaa ja 5€ yksi ilta. \nIlmoittautumiset hiihtokouluihin 27.1.2019 mennessä Leena Ravantille p. 040 522 5740. \n  \n 
URL:https://valkealanlatu.fi/tapahtumat/muumi-hiihtokoulu-ja-aikuisten-hiihtokoulu-2/
LOCATION:Valkealan kirkonkylän urheilukenttä\, Toikkalantie 5\, Valkeala\, Kymenlaakso\, 45370\, Suomi
CATEGORIES:Hiihto,Perheliikunta
END:VEVENT
BEGIN:VEVENT
DTSTART;TZID=Europe/Helsinki:20190222T090000
DTEND;TZID=Europe/Helsinki:20190224T160000
DTSTAMP:20260425T141810
CREATED:20181019T182852Z
LAST-MODIFIED:20190112T120617Z
UID:960-1550826000-1551024000@valkealanlatu.fi
SUMMARY:XX Repoveden ulkoilu- ja elämyspäivät
DESCRIPTION:Repoveden ulkoilu- ja elämyspäivät juhlivat 20-vuotista tapahtuma taivaltaan 22.-24.2.2019. Juhlavuoden kunniaksi perinteisten hiihto- ja kävelyreittien lisäksi mm. lapsille toimintarata\, lasten latu\, poniajelua\, koiravaljakkoajelua\, pulkkamäki\, lumikenkäilyä\, potkukelkkoja\, pilkintää\, lettukota ja paljon muuta. Perjantaina kaikki ovat tervetulleita ulkoilemaan\, mutta erityisesti yrityksiä ja yhteisöjä kannustetaan Tyhy-päivien viettoon Repovedelle. Lauantaina ja sunnuntaina on perheen pienimmät ja isommat lapset huomioitu erilaisilla aktiviteeteillä.  Tapahtumia joka päivä klo 9-16. Alueelle on vapaa pääsy. Osallitumismaksu erämaahiihtoon tai sauva/lumikenkäkävelyyn 10 € hlö\, perhelippu 20 €. Sisältää 2 kpl eväslippuja\, vakuutuksen ja sauna/suihku\, myös palkintojen arvonta. Tervetuloa kaikki kolmipäiväisille Repoveden ulkoilu- ja elämyspäiville! \nRepoveden ulkoilu_ja_elamyspaivat_2019 esite \nJärjestäjä\nValkealan Latu ry\, Orilammen lomakeskus\,  Kouvolan Latu\, Valkealan Kajo\, Kouvolan kaupunki\, Metsähallitus\, Mäntyharjun kunta\, Kinansaaren kyläyhdistys\, Talli Koskinen\, Valkealan kalakerho \n0405198252 \nrepovesiulkoilu@gmail.com
URL:https://valkealanlatu.fi/tapahtumat/xx-repoveden-ulkoilu-ja-elamyspaivat/
LOCATION:Orilammen Maja\, Voikoskentie 138\, Kouvola\, Hillosensalmi\, 47910\, Suomi
CATEGORIES:Hiihto,Lasten toiminta,Perheliikunta,Pilkki
END:VEVENT
BEGIN:VEVENT
DTSTART;TZID=Europe/Helsinki:20190309T100000
DTEND;TZID=Europe/Helsinki:20190309T130000
DTSTAMP:20260425T141810
CREATED:20190128T065507Z
LAST-MODIFIED:20190128T065507Z
UID:1043-1552125600-1552136400@valkealanlatu.fi
SUMMARY:Pilkkikisat
DESCRIPTION:Valkealan Latu ry:n ja Eläkeliiton Valkealan yhdistyksen perinteiset pilkkikisat järjestetään Haukkajärvellä 9.3.2019 klo 10-13. Osoite: Raminpolku 24\, Valkeala (entinen Rakennusliitto os.60 rantapaikka). Sarjat: nuoret\, naiset ja miehet. \nTervetuloa jäsenet mukaan kilpailemaan!
URL:https://valkealanlatu.fi/tapahtumat/pilkkikisat-2/
LOCATION:Haukkajärvi\, Haukkajärvi\, Kouvola\, Kymenlaakso\, 45410
CATEGORIES:Pilkki
END:VEVENT
BEGIN:VEVENT
DTSTART;TZID=Europe/Helsinki:20190321T190000
DTEND;TZID=Europe/Helsinki:20190321T190000
DTSTAMP:20260425T141810
CREATED:20190310T193026Z
LAST-MODIFIED:20190310T193026Z
UID:1048-1553194800-1553194800@valkealanlatu.fi
SUMMARY:Kevätkokous
DESCRIPTION:Valkealan Latu ry:n Kevätkokous pidetään Valkealatalolla to 21.3. klo 19. Kokouksessa käsitellään sääntöjen kevätkokouksessa määräämät asiat. Tervetuloa! Hallitus
URL:https://valkealanlatu.fi/tapahtumat/kevatkokous/
LOCATION:Valkealatalo\, Toikkalantie 5\, Kouvola\, 45370
END:VEVENT
BEGIN:VEVENT
DTSTART;TZID=Europe/Helsinki:20190405T213000
DTEND;TZID=Europe/Helsinki:20190413T210000
DTSTAMP:20260425T141810
CREATED:20181019T191939Z
LAST-MODIFIED:20181019T191939Z
UID:964-1554499800-1555189200@valkealanlatu.fi
SUMMARY:Hiihtomatka Ylläkselle
DESCRIPTION:Valkealan Latu ry järjestää hiihtomatkan Ylläkselle 5.-13.4.2019 (vko 15). \nLisätiedot ja tiedustelut: Tuija Puustinen p. 050 350 0613.
URL:https://valkealanlatu.fi/tapahtumat/hiihtomatka-yllakselle-2/
LOCATION:Ylläs\,  \, Äkäslompolo\, 95970\, Suomi
CATEGORIES:Hiihto
END:VEVENT
BEGIN:VEVENT
DTSTART;TZID=Europe/Helsinki:20190506T170000
DTEND;TZID=Europe/Helsinki:20190506T183000
DTSTAMP:20260425T141810
CREATED:20190327T185616Z
LAST-MODIFIED:20190327T185822Z
UID:1051-1557162000-1557167400@valkealanlatu.fi
SUMMARY:VALKEALAN LATU JÄRJESTÄÄ 4–6–VUOTIAILLE LAPSILLE METSÄMÖRRIKOULUN TOUKOKUUSSA 2019 VALKEALASSA
DESCRIPTION:Metsämörri esite \n 
URL:https://valkealanlatu.fi/tapahtumat/valkealan-latu-jarjestaa-4-6-vuotiaille-lapsille-metsamorrikoulun-toukokuussa-2019-valkealassa/
LOCATION:Toikkalantien hiihtoparkki\, Valkeala\, 60.940399\,26.820825
END:VEVENT
BEGIN:VEVENT
DTSTART;TZID=Europe/Helsinki:20190528T170000
DTEND;TZID=Europe/Helsinki:20190528T200000
DTSTAMP:20260425T141810
CREATED:20190505T181358Z
LAST-MODIFIED:20190505T181358Z
UID:1058-1559062800-1559073600@valkealanlatu.fi
SUMMARY:Patikointiretki Paaskoskelle
DESCRIPTION:Valkealan Latu ry järjestää perinteisen patikointiretken Paaskosken Majalle tiistaina 28.5. Lähtö Valkealatalon parkkipaikalta klo 17 tai Jyrääntien hiihtoparkista klo 18. Ilmoittautumiset 24.5. mennessä Leena Ravantille p. 040 522 5740. Tervetuloa mukaan!
URL:https://valkealanlatu.fi/tapahtumat/patikointiretki-paaskoskelle/
LOCATION:Paaskosken Maja\, Karimäentie 90\, Kouvola\, Valkeala\, 45360\, Suomi
CATEGORIES:Patikointi,Perheliikunta
END:VEVENT
BEGIN:VEVENT
DTSTART;VALUE=DATE:20190901
DTEND;VALUE=DATE:20190902
DTSTAMP:20260425T141810
CREATED:20190505T182036Z
LAST-MODIFIED:20190628T184755Z
UID:1060-1567296000-1567382399@valkealanlatu.fi
SUMMARY:Jäsenmatka Helsinkiin (Linnanmäki/ Korkeasaari)
DESCRIPTION:Valkealan Latu ry järjestää jäsenmatkan sunnuntaina 1.9.2019 Helsinkiin Linnanmäelle tai Korkeasaareen valintasi mukaan. Lähtö klo 9 Valkealan ABC:n pihasta ja paluu klo 20 Valkealan ABC:lle. \nSitovat ilmoittautumiset 5.8. mennessä Leena Ravantille p. 040 522 5740. Mukaan mahtuu 50 ensimmäisenä ilmoittautunutta jäsentä\, paikat täytetään ilmoittautumisjärjestyksessä. \nValkealan Latu ry tarjoaa jäsenilleen ilmaisen bussikuljetuksen.
URL:https://valkealanlatu.fi/tapahtumat/retki-helsinkiin/
CATEGORIES:Lasten toiminta,Perheliikunta
END:VEVENT
BEGIN:VEVENT
DTSTART;TZID=Europe/Helsinki:20190903T180000
DTEND;TZID=Europe/Helsinki:20190903T190000
DTSTAMP:20260425T141810
CREATED:20190818T075207Z
LAST-MODIFIED:20190818T075207Z
UID:1073-1567533600-1567537200@valkealanlatu.fi
SUMMARY:Venytellen vetreäksi -jumppa
DESCRIPTION:Venytellen vetreäksi -jumpparyhmän syksyn ensimmäinen kokoontuminen on tiistaina 3.9. klo 18-19 Valkealan urheilukentän huoltorakennuksen edessä. Syyskuun ajan ryhmässä ulkoillaan.
URL:https://valkealanlatu.fi/tapahtumat/venytellen-vetreaksi-jumppa/
LOCATION:Valkealan kirkonkylän urheilukentän huoltorakennus\, Toikkalantie 5\, Valkeala\, Kymenlaakso\, 45370\, Suomi
CATEGORIES:Jumppa
END:VEVENT
BEGIN:VEVENT
DTSTART;TZID=Europe/Helsinki:20190906T210000
DTEND;TZID=Europe/Helsinki:20190914T210000
DTSTAMP:20260425T141810
CREATED:20190521T161056Z
LAST-MODIFIED:20190818T073555Z
UID:1064-1567803600-1568494800@valkealanlatu.fi
SUMMARY:Ruskamatka Saariselälle
DESCRIPTION:Valkealan Latu ry järjestää ruskamatkan Saariselälle 6.-14.9.2019 (vko 37). Paikkoja vielä vapaana! Tiedustelut ja varaukset: Tuija Puustinen p. 050 350 0613 (klo 17 jälkeen) tai sähköpostitse: puustinentuija@gmail.com.
URL:https://valkealanlatu.fi/tapahtumat/ruskamatka-saariselalle-3/
CATEGORIES:Patikointi
END:VEVENT
END:VCALENDAR