BEGIN:VCALENDAR
VERSION:2.0
PRODID:-//Valkealan Latu - ECPv6.0.10//NONSGML v1.0//EN
CALSCALE:GREGORIAN
METHOD:PUBLISH
X-ORIGINAL-URL:https://valkealanlatu.fi
X-WR-CALDESC:Tapahtumat Valkealan Latu
REFRESH-INTERVAL;VALUE=DURATION:PT1H
X-Robots-Tag:noindex
X-PUBLISHED-TTL:PT1H
BEGIN:VTIMEZONE
TZID:Europe/Helsinki
BEGIN:DAYLIGHT
TZOFFSETFROM:+0200
TZOFFSETTO:+0300
TZNAME:EEST
DTSTART:20190331T010000
END:DAYLIGHT
BEGIN:STANDARD
TZOFFSETFROM:+0300
TZOFFSETTO:+0200
TZNAME:EET
DTSTART:20191027T010000
END:STANDARD
BEGIN:DAYLIGHT
TZOFFSETFROM:+0200
TZOFFSETTO:+0300
TZNAME:EEST
DTSTART:20200329T010000
END:DAYLIGHT
BEGIN:STANDARD
TZOFFSETFROM:+0300
TZOFFSETTO:+0200
TZNAME:EET
DTSTART:20201025T010000
END:STANDARD
END:VTIMEZONE
BEGIN:VEVENT
DTSTART;TZID=Europe/Helsinki:20190906T210000
DTEND;TZID=Europe/Helsinki:20190914T210000
DTSTAMP:20260424T023834
CREATED:20190521T161056Z
LAST-MODIFIED:20190818T073555Z
UID:1064-1567803600-1568494800@valkealanlatu.fi
SUMMARY:Ruskamatka Saariselälle
DESCRIPTION:Valkealan Latu ry järjestää ruskamatkan Saariselälle 6.-14.9.2019 (vko 37). Paikkoja vielä vapaana! Tiedustelut ja varaukset: Tuija Puustinen p. 050 350 0613 (klo 17 jälkeen) tai sähköpostitse: puustinentuija@gmail.com.
URL:https://valkealanlatu.fi/tapahtumat/ruskamatka-saariselalle-3/
CATEGORIES:Patikointi
END:VEVENT
BEGIN:VEVENT
DTSTART;TZID=Europe/Helsinki:20190910T180000
DTEND;TZID=Europe/Helsinki:20190910T190000
DTSTAMP:20260424T023834
CREATED:20190818T080201Z
LAST-MODIFIED:20190818T080621Z
UID:1075-1568138400-1568142000@valkealanlatu.fi
SUMMARY:Venytellen vetreäksi -jumppa
DESCRIPTION:Jumpparyhmä kokoontuu tiistaisin klo 18-19. Kokoontuminen Valkealan urheilukentän huoltorakennuksen edessä. Syyskuun ajan ryhmässä ulkoillaan.
URL:https://valkealanlatu.fi/tapahtumat/venytellen-vetreaksi-jumppa-2/
LOCATION:Valkealan kirkonkylän urheilukentän huoltorakennus\, Toikkalantie 5\, Valkeala\, Kymenlaakso\, 45370\, Suomi
CATEGORIES:Jumppa
END:VEVENT
BEGIN:VEVENT
DTSTART;TZID=Europe/Helsinki:20190917T180000
DTEND;TZID=Europe/Helsinki:20190917T190000
DTSTAMP:20260424T023834
CREATED:20190818T080406Z
LAST-MODIFIED:20190818T080406Z
UID:1077-1568743200-1568746800@valkealanlatu.fi
SUMMARY:Venytellen vetreäksi -jumppa
DESCRIPTION:Jumpparyhmä kokoontuu tiistaisin klo 18-19. Kokoontuminen Valkealan urheilukentän huoltorakennuksen edessä. Syyskuun ajan ryhmässä ulkoillaan.
URL:https://valkealanlatu.fi/tapahtumat/venytellen-vetreaksi-jumppa-3/
LOCATION:Valkealan kirkonkylän urheilukentän huoltorakennus\, Toikkalantie 5\, Valkeala\, Kymenlaakso\, 45370\, Suomi
CATEGORIES:Jumppa
END:VEVENT
BEGIN:VEVENT
DTSTART;TZID=Europe/Helsinki:20190924T180000
DTEND;TZID=Europe/Helsinki:20190924T190000
DTSTAMP:20260424T023834
CREATED:20190818T080532Z
LAST-MODIFIED:20190818T080532Z
UID:1079-1569348000-1569351600@valkealanlatu.fi
SUMMARY:Venytellen vetreäksi -jumppa
DESCRIPTION:Jumpparyhmä kokoontuu tiistaisin klo 18-19. Kokoontuminen Valkealan urheilukentän huoltorakennuksen edessä. Syyskuun ajan ryhmässä ulkoillaan.
URL:https://valkealanlatu.fi/tapahtumat/venytellen-vetreaksi-jumppa-4/
LOCATION:Valkealan kirkonkylän urheilukentän huoltorakennus\, Toikkalantie 5\, Valkeala\, Kymenlaakso\, 45370\, Suomi
CATEGORIES:Jumppa
END:VEVENT
BEGIN:VEVENT
DTSTART;TZID=Europe/Helsinki:20191001T180000
DTEND;TZID=Europe/Helsinki:20191001T190000
DTSTAMP:20260424T023834
CREATED:20190818T081012Z
LAST-MODIFIED:20190818T081012Z
UID:1081-1569952800-1569956400@valkealanlatu.fi
SUMMARY:Venytellen vetreäksi -jumppa
DESCRIPTION:Jumpparyhmä kokoontuu tiistaisin klo 18-19 Valkealan urheilukentän huoltorakennuksella. Varaathan mukaan sisäliikuntaan sopivat vaatteet ja juomapullon.
URL:https://valkealanlatu.fi/tapahtumat/venytellen-vetreaksi-jumppa-5/
LOCATION:Valkealan kirkonkylän urheilukentän huoltorakennus\, Toikkalantie 5\, Valkeala\, Kymenlaakso\, 45370\, Suomi
CATEGORIES:Jumppa
END:VEVENT
BEGIN:VEVENT
DTSTART;TZID=Europe/Helsinki:20191118T190000
DTEND;TZID=Europe/Helsinki:20191118T200000
DTSTAMP:20260424T023834
CREATED:20191106T144916Z
LAST-MODIFIED:20191106T144916Z
UID:1103-1574103600-1574107200@valkealanlatu.fi
SUMMARY:Syyskokous
DESCRIPTION:Valkealan Latu ry:n Syyskokous pidetään Valkealatalolla maanantaina 18.11.2019 klo 19. Kokouksessa käsitellään sääntöjen 13§ määräämät asiat. Tervetuloa mukaan! Hallitus
URL:https://valkealanlatu.fi/tapahtumat/syyskokous-2/
LOCATION:Valkealatalo\, Toikkalantie 5\, Kouvola\, 45370
END:VEVENT
BEGIN:VEVENT
DTSTART;TZID=Europe/Helsinki:20191206T093000
DTEND;TZID=Europe/Helsinki:20191206T140000
DTSTAMP:20260424T023834
CREATED:20191014T171107Z
LAST-MODIFIED:20191106T145431Z
UID:1085-1575624600-1575640800@valkealanlatu.fi
SUMMARY:Itsenäisyyspäivän patikointi
DESCRIPTION:Valkealan Latu ry järjestää perinteisen itsenäisyyspäivän patikoinnin Repovedelle 6.12.2019. Lähtö Lapinsalmen parkkipaikalta klo 10. Tarkemmat tiedot päivitetään lähempänä ajankohtana. Lisätietoja: Tuija Puustinen p. 050 3500613 (klo 16 jälkeen) tai sähköpostitse puustinentuija@gmail.com.
URL:https://valkealanlatu.fi/tapahtumat/itsenaisyyspaivan-patikointi/
CATEGORIES:Patikointi,Perheliikunta
END:VEVENT
BEGIN:VEVENT
DTSTART;TZID=Europe/Helsinki:20200111T150000
DTEND;TZID=Europe/Helsinki:20200111T170000
DTSTAMP:20260424T023834
CREATED:20191106T145855Z
LAST-MODIFIED:20191211T174621Z
UID:1109-1578754800-1578762000@valkealanlatu.fi
SUMMARY:Kauden päättäjäiset
DESCRIPTION:Valkealan Latu ry järjestää jäsenilleen kauden 2019 päätösjuhlan Valkealan Nuorisoseurantalolla lauantaina 11.1.2020 klo 15 alkaen. Ohjelmassa ruokailu ja kahvit\, pientä ohjelmaa sekä rentoa yhdessä oloa. Omavastuu: aikuiset 10€\, lapset alle 4v. ilmaiseksi\, 4-11v. lapset 5€ ja yli 11v. 10€. Lämpimästi tervetuloa kaikki jäsenet mukaan! \n  \nSitovat ilmoittautumiset Leena Ravantille (p. 040 522 5740) 4.1.2020 mennessä.
URL:https://valkealanlatu.fi/tapahtumat/kauden-paattajaiset-2/
LOCATION:Valkealan Nuorisoseurantalo\, Kalevantie 8\, 45370 Valkeala\, Valkeala\, 45370\, Suomi
END:VEVENT
BEGIN:VEVENT
DTSTART;TZID=Europe/Helsinki:20200114T180000
DTEND;TZID=Europe/Helsinki:20200114T190000
DTSTAMP:20260424T023834
CREATED:20200104T150857Z
LAST-MODIFIED:20200104T150857Z
UID:1125-1579024800-1579028400@valkealanlatu.fi
SUMMARY:Venytellen vetreäksi
DESCRIPTION:Venytellen vetreäksi -jumpparyhmä alkaa tiistaina 14.1 klo 18 Valkealan kirkonkylän urheilukentän huoltorakennuksella. Ryhmän ohjaajina toimivat vuoroviikoin Sari Haimi ja Tuija Puustinen. Ryhmä on kaikille avoin ja maksuton. Ennakkoilmoittautumista ei tarvita. Mukaan jumppaan tarvitset sisäliikuntavarusteet\, sisätossut\, juomapullo\, mukaan voi ottaa myös oman jumppa-alustan. \nTiedustelut: Sari p. 040 085 1620 tai Tuija p. 050 350 0613
URL:https://valkealanlatu.fi/tapahtumat/venytellen-vetreaksi/
LOCATION:Valkealan kirkonkylän urheilukentän huoltorakennus\, Toikkalantie 5\, Valkeala\, Kymenlaakso\, 45370\, Suomi
CATEGORIES:Jumppa
END:VEVENT
BEGIN:VEVENT
DTSTART;TZID=Europe/Helsinki:20200121T080000
DTEND;TZID=Europe/Helsinki:20200121T170000
DTSTAMP:20260424T023834
CREATED:20200104T151254Z
LAST-MODIFIED:20200104T151254Z
UID:1127-1579593600-1579626000@valkealanlatu.fi
SUMMARY:Venytellen vetreäksi
DESCRIPTION:Venytellen vetreäksi -jumpparyhmä kokoontuu tiistaisin klo 18 Valkealan kirkonkylän urheilukentän huoltorakennuksella. Ryhmän ohjaajina toimivat vuoroviikoin Sari Haimi ja Tuija Puustinen. Ryhmä on kaikille avoin ja maksuton. Ennakkoilmoittautumista ei tarvita. Mukaan jumppaan tarvitset sisäliikuntavarusteet\, sisätossut\, juomapullo\, mukaan voi ottaa myös oman jumppa-alustan. \n4.2. ei ole jumpparyhmää\, mutta halutessasi voit osallistua aikuisten hiihtokouluun tai olla Muumi -hiihtokoulussa talkooapuna. \n25.2. ON jumppa. \n  \nTiedustelut: Sari p. 040 085 1620 tai Tuija p. 050 350 0613
URL:https://valkealanlatu.fi/tapahtumat/venytellen-vetreaksi-2/
LOCATION:Valkealan kirkonkylän urheilukentän huoltorakennus\, Toikkalantie 5\, Valkeala\, Kymenlaakso\, 45370\, Suomi
CATEGORIES:Jumppa
END:VEVENT
BEGIN:VEVENT
DTSTART;TZID=Europe/Helsinki:20200128T180000
DTEND;TZID=Europe/Helsinki:20200128T190000
DTSTAMP:20260424T023834
CREATED:20200104T151440Z
LAST-MODIFIED:20200104T151440Z
UID:1129-1580234400-1580238000@valkealanlatu.fi
SUMMARY:Venytellen vetreäksi -jumpparyhmä
DESCRIPTION:Venytellen vetreäksi -jumpparyhmä kokoontuu tiistaisin klo 18 Valkealan kirkonkylän urheilukentän huoltorakennuksella. Ryhmän ohjaajina toimivat vuoroviikoin Sari Haimi ja Tuija Puustinen. Ryhmä on kaikille avoin ja maksuton. Ennakkoilmoittautumista ei tarvita. Mukaan jumppaan tarvitset sisäliikuntavarusteet\, sisätossut\, juomapullo\, mukaan voi ottaa myös oman jumppa-alustan. \n4.2. ei ole jumpparyhmää\, mutta halutessasi voit osallistua aikuisten hiihtokouluun tai olla Muumi -hiihtokoulussa talkooapuna. \n25.2. ON jumppa. \n  \nTiedustelut: Sari p. 040 085 1620 tai Tuija p. 050 350 0613
URL:https://valkealanlatu.fi/tapahtumat/venytellen-vetreaksi-jumpparyhma-37/
LOCATION:Valkealan kirkonkylän urheilukentän huoltorakennus\, Toikkalantie 5\, Valkeala\, Kymenlaakso\, 45370\, Suomi
CATEGORIES:Jumppa
END:VEVENT
BEGIN:VEVENT
DTSTART;TZID=Europe/Helsinki:20200204T164500
DTEND;TZID=Europe/Helsinki:20200205T183000
DTSTAMP:20260424T023834
CREATED:20191014T171602Z
LAST-MODIFIED:20200104T153544Z
UID:1100-1580834700-1580927400@valkealanlatu.fi
SUMMARY:Muumi -hiihtokoulu
DESCRIPTION:Valkealan Latu ry järjestää Muumi – hiihtokoulun ja Aikuisten hiihtokoulun 4.-5.2.2020 klo 16:45-18:30 Valkealan kirkonkylän urheilukentällä. \nRyhmät: \nPikku-Myyt 4 vuotta (ilman huoltajaa)\nMuumipeikot 5 vuotta\nNipsut 6 vuotta\nHiihtomaisterit 7-8 vuotta\nLuistelutekniikka/ Skicross 9-14 vuotta \nHinta: 10 euroa\nHintaan sisältyy hiihdon ohjaus\, todistus ja mehutarjoilu. \nAikuisten hiihtokoulun ohjauksesta vastaa Valkealan Kajon hiihtojaosto.\nHiihtokoulun aiheena on perinteinen ja luisteluhiihto. Aikuisten hiihtokoulun\nhinta on 10 euroa. \nIlmoittautumiset hiihtokouluihin 26.1. mennessä Leena Ravantille p. 040 522 5740.
URL:https://valkealanlatu.fi/tapahtumat/muumi-hiihtokoulu/
LOCATION:Valkealan kirkonkylän urheilukenttä\, Toikkalantie 5\, Valkeala\, Kymenlaakso\, 45370\, Suomi
CATEGORIES:Hiihto,Lasten toiminta,Perheliikunta
END:VEVENT
BEGIN:VEVENT
DTSTART;TZID=Europe/Helsinki:20200211T180000
DTEND;TZID=Europe/Helsinki:20200211T190000
DTSTAMP:20260424T023834
CREATED:20200104T151634Z
LAST-MODIFIED:20200104T151634Z
UID:1131-1581444000-1581447600@valkealanlatu.fi
SUMMARY:Venytellen vetreäksi -jumpparyhmä
DESCRIPTION:Venytellen vetreäksi -jumpparyhmä kokoontuu tiistaisin klo 18 Valkealan kirkonkylän urheilukentän huoltorakennuksella. Ryhmän ohjaajina toimivat vuoroviikoin Sari Haimi ja Tuija Puustinen. Ryhmä on kaikille avoin ja maksuton. Ennakkoilmoittautumista ei tarvita. Mukaan jumppaan tarvitset sisäliikuntavarusteet\, sisätossut\, juomapullo\, mukaan voi ottaa myös oman jumppa-alustan. \n25.2. ON jumppa. \nTiedustelut: Sari p. 040 085 1620 tai Tuija p. 050 350 0613
URL:https://valkealanlatu.fi/tapahtumat/venytellen-vetreaksi-jumpparyhma-38/
LOCATION:Valkealan kirkonkylän urheilukentän huoltorakennus\, Toikkalantie 5\, Valkeala\, Kymenlaakso\, 45370\, Suomi
CATEGORIES:Jumppa
END:VEVENT
BEGIN:VEVENT
DTSTART;TZID=Europe/Helsinki:20200218T180000
DTEND;TZID=Europe/Helsinki:20200218T190000
DTSTAMP:20260424T023834
CREATED:20200104T151805Z
LAST-MODIFIED:20200104T151805Z
UID:1133-1582048800-1582052400@valkealanlatu.fi
SUMMARY:Venytellen vetreäksi -jumpparyhmä
DESCRIPTION:Venytellen vetreäksi -jumpparyhmä kokoontuu tiistaisin klo 18 Valkealan kirkonkylän urheilukentän huoltorakennuksella. Ryhmän ohjaajina toimivat vuoroviikoin Sari Haimi ja Tuija Puustinen. Ryhmä on kaikille avoin ja maksuton. Ennakkoilmoittautumista ei tarvita. Mukaan jumppaan tarvitset sisäliikuntavarusteet\, sisätossut\, juomapullo\, mukaan voi ottaa myös oman jumppa-alustan. \n25.2. ON jumppa. \nTiedustelut: Sari p. 040 085 1620 tai Tuija p. 050 350 0613
URL:https://valkealanlatu.fi/tapahtumat/venytellen-vetreaksi-jumpparyhma-39/
LOCATION:Valkealan kirkonkylän urheilukentän huoltorakennus\, Toikkalantie 5\, Valkeala\, Kymenlaakso\, 45370\, Suomi
CATEGORIES:Jumppa
END:VEVENT
BEGIN:VEVENT
DTSTART;TZID=Europe/Helsinki:20200221T090000
DTEND;TZID=Europe/Helsinki:20200223T150000
DTSTAMP:20260424T023834
CREATED:20191014T170721Z
LAST-MODIFIED:20200216T163456Z
UID:1087-1582275600-1582470000@valkealanlatu.fi
SUMMARY:XXI Repoveden ulkoilu- ja elämyspäivät TAPAHTUMA ON PERUTTU VÄHÄISEN LUMEN JA JÄÄN VUOKSI!
DESCRIPTION:Repoveden ulkoilu- ja elämyspäivät kerää luonnossa liikkujat yhteen Repoveden kauniisiin maisemiin jo 21. kerran. Vuoden 2020 tapahtumassa on pyritty huomioimaan erityisesti lapsiperheet. Perinteisten hiihto- ja kävelyreittien sekä muiden toimintojen lisäksi tapahtumassa esitellään erilaisia aktiviteetteja\, joita voi harrastaa vähälumisinakin talvina.  \nPerinteisesti perjantaina kannustetaan yrityksiä ja yhteisöjä lähtemään liikkeelle työhyvinvointipäivän viettoon Repovedelle\, mutta tervetulleita ovat myös kaikki muut ulkoilijat. Lauantaina ja sunnuntaina ohjelmaa ja aktiviteettia on tarjolla koko perheelle\, vauvasta vaariin.  \nAlueelle on vapaa pääsy. Osallistumismaksu erämaahiihtoon tai sauva/lumikenkäkävelyyn 10€/ hlö\, perhelippu 20€. Liput sisältävät kaksi kappaletta eväslippuja\, vakuutuksen\, saunan/ suihkun. Lipun ostaneiden kesken arvotaan palkintoja.  \nTapahtumassa voi ostaa makkaraa\, mehua/ kahvia sekä lettuja luonnon helmassa nautiskellen. Orilammen Maja palvelee ulkoilijoita niin ruokailun kuin majoituksen merkeissä. \nTervetuloa sankoin joukoin nauttimaan ulkoilusta ja yhdessä olosta arvokkaissa Repoveden kansallispuiston maisemissa! \nRepoveden ulkoilu_ja_elamyspaivat_2020_2
URL:https://valkealanlatu.fi/tapahtumat/xxi-repoveden-ulkoilu-ja-elamyspaivat/
LOCATION:Orilammen Maja\, Voikoskentie 138\, Kouvola\, Hillosensalmi\, 47910\, Suomi
CATEGORIES:Hiihto,Lasten toiminta,Patikointi,Perheliikunta,Pilkki
END:VEVENT
BEGIN:VEVENT
DTSTART;TZID=Europe/Helsinki:20200225T180000
DTEND;TZID=Europe/Helsinki:20200225T190000
DTSTAMP:20260424T023834
CREATED:20200104T153757Z
LAST-MODIFIED:20200104T153757Z
UID:1140-1582653600-1582657200@valkealanlatu.fi
SUMMARY:Venytellen vetreäksi -jumpparyhmä
DESCRIPTION:Venytellen vetreäksi -jumpparyhmä kokoontuu tiistaisin klo 18 Valkealan kirkonkylän urheilukentän huoltorakennuksella. Ryhmän ohjaajina toimivat vuoroviikoin Sari Haimi ja Tuija Puustinen. Ryhmä on kaikille avoin ja maksuton. Ennakkoilmoittautumista ei tarvita. Mukaan jumppaan tarvitset sisäliikuntavarusteet\, sisätossut\, juomapullo\, mukaan voi ottaa myös oman jumppa-alustan. \n25.2. ON jumppa. \nTiedustelut: Sari p. 040 085 1620 tai Tuija p. 050 350 0613
URL:https://valkealanlatu.fi/tapahtumat/venytellen-vetreaksi-jumpparyhma-40/
LOCATION:Valkealan kirkonkylän urheilukentän huoltorakennus\, Toikkalantie 5\, Valkeala\, Kymenlaakso\, 45370\, Suomi
CATEGORIES:Jumppa
END:VEVENT
BEGIN:VEVENT
DTSTART;TZID=Europe/Helsinki:20200303T180000
DTEND;TZID=Europe/Helsinki:20200303T190000
DTSTAMP:20260424T023834
CREATED:20200104T162736Z
LAST-MODIFIED:20200104T162736Z
UID:1142-1583258400-1583262000@valkealanlatu.fi
SUMMARY:Venytellen vetreäksi -jumpparyhmä
DESCRIPTION:Venytellen vetreäksi -jumpparyhmä kokoontuu tiistaisin klo 18 Valkealan kirkonkylän urheilukentän huoltorakennuksella. Ryhmän ohjaajina toimivat vuoroviikoin Sari Haimi ja Tuija Puustinen. Ryhmä on kaikille avoin ja maksuton. Ennakkoilmoittautumista ei tarvita. Mukaan jumppaan tarvitset sisäliikuntavarusteet\, sisätossut\, juomapullo\, mukaan voi ottaa myös oman jumppa-alustan. \nTiedustelut: Sari p. 040 085 1620 tai Tuija p. 050 350 0613
URL:https://valkealanlatu.fi/tapahtumat/venytellen-vetreaksi-jumpparyhma-41/
LOCATION:Valkealan kirkonkylän urheilukentän huoltorakennus\, Toikkalantie 5\, Valkeala\, Kymenlaakso\, 45370\, Suomi
CATEGORIES:Jumppa
END:VEVENT
BEGIN:VEVENT
DTSTART;TZID=Europe/Helsinki:20200307T100000
DTEND;TZID=Europe/Helsinki:20200307T130000
DTSTAMP:20260424T023834
CREATED:20200104T164017Z
LAST-MODIFIED:20200226T194616Z
UID:1152-1583575200-1583586000@valkealanlatu.fi
SUMMARY:Pilkkikilpailut
DESCRIPTION:Valkealan Latu ry:n ja Eläkeliiton Valkealan yhdistyksen välinen pilkkikilpailu järjestetään lauantaina 7.3.2020 klo 10-13 Niinirannan toimintakeskuksessa (Leiritie 11\, Valkeala). Sarjat: nuoret\, naiset ja miehet. Tervetuloa mukaan! Hallitus
URL:https://valkealanlatu.fi/tapahtumat/pilkkikilpailut-2/
LOCATION:Niinirannan toimintakeskus\, Leiritie 11\, 45370 Valkeala\, Kouvola\, 45370\, Suomi
CATEGORIES:Perheliikunta,Pilkki
END:VEVENT
BEGIN:VEVENT
DTSTART;TZID=Europe/Helsinki:20200310T180000
DTEND;TZID=Europe/Helsinki:20200310T190000
DTSTAMP:20260424T023834
CREATED:20200104T163141Z
LAST-MODIFIED:20200104T163141Z
UID:1144-1583863200-1583866800@valkealanlatu.fi
SUMMARY:Venytellen vetreäksi -jumpparyhmä
DESCRIPTION:Venytellen vetreäksi -jumpparyhmä kokoontuu tiistaisin klo 18 Valkealan kirkonkylän urheilukentän huoltorakennuksella. Ryhmän ohjaajina toimivat vuoroviikoin Sari Haimi ja Tuija Puustinen. Ryhmä on kaikille avoin ja maksuton. Ennakkoilmoittautumista ei tarvita. Mukaan jumppaan tarvitset sisäliikuntavarusteet\, sisätossut\, juomapullo\, mukaan voi ottaa myös oman jumppa-alustan. \nTiedustelut: Sari p. 040 085 1620 tai Tuija p. 050 350 0613
URL:https://valkealanlatu.fi/tapahtumat/venytellen-vetreaksi-jumpparyhma-42/
LOCATION:Valkealan kirkonkylän urheilukentän huoltorakennus\, Toikkalantie 5\, Valkeala\, Kymenlaakso\, 45370\, Suomi
CATEGORIES:Jumppa
END:VEVENT
BEGIN:VEVENT
DTSTART;TZID=Europe/Helsinki:20200314T100000
DTEND;TZID=Europe/Helsinki:20200314T130000
DTSTAMP:20260424T023834
CREATED:20200216T165512Z
LAST-MODIFIED:20200313T185850Z
UID:1172-1584180000-1584190800@valkealanlatu.fi
SUMMARY:Talvinen perhetapahtuma  TAPAHTUMA PERUTTU!
DESCRIPTION:Valkealan Latu ry on mukana Valkealan seurakunnan varhaiskasvatuksen järjestämässä perhetapahtumassa yhdessä Valkealan Kajon kanssa. Tapahtuma järjestetään Harjunmäen laavulla lauantaina 14.3.2020 klo 10-13. Kulku laavulle tapahtuu Toikkalantien hiihtoparkista. \nTapahtumassa voit osallistua: \nmäenlaskuun (sää varaus) \nmakkaranpaistoon (1€/makkara\, käteismaksu) \nPop up pyhäkouluhetkeen \nTehtävärasteille \nMukavaan yhdessä oloon \n  \n  \n  \n 
URL:https://valkealanlatu.fi/tapahtumat/talvinen-perhetapahtuma/
LOCATION:Valkealan Harjunmäen laavu\, 60.939140\, 26.815592
CATEGORIES:Lasten toiminta,Perheliikunta
END:VEVENT
BEGIN:VEVENT
DTSTART;TZID=Europe/Helsinki:20200316T190000
DTEND;TZID=Europe/Helsinki:20200316T203000
DTSTAMP:20260424T023834
CREATED:20200220T141335Z
LAST-MODIFIED:20200220T141335Z
UID:1175-1584385200-1584390600@valkealanlatu.fi
SUMMARY:Kevätkokous 16.3.2020
DESCRIPTION:Valkealan Latu ry:n Kevätkokous pidetään Valkealatalolla (Toikkalantie 5\, Valkeala) maanantaina 16.3.2020 klo 19. Kokouksessa käsitellään sääntöjen 12§ mukaiset asiat. Tervetuloa! Hallitus
URL:https://valkealanlatu.fi/tapahtumat/kevatkokous-16-3-2020/
LOCATION:Valkealatalo\, Toikkalantie 5\, Kouvola\, 45370
CATEGORIES:Kokous
END:VEVENT
BEGIN:VEVENT
DTSTART;TZID=Europe/Helsinki:20200317T180000
DTEND;TZID=Europe/Helsinki:20200317T190000
DTSTAMP:20260424T023834
CREATED:20200104T163311Z
LAST-MODIFIED:20200313T185936Z
UID:1146-1584468000-1584471600@valkealanlatu.fi
SUMMARY:Venytellen vetreäksi -jumpparyhmä RYHMÄ PERUTTU!
DESCRIPTION:Venytellen vetreäksi -jumpparyhmä kokoontuu tiistaisin klo 18 Valkealan kirkonkylän urheilukentän huoltorakennuksella. Ryhmän ohjaajina toimivat vuoroviikoin Sari Haimi ja Tuija Puustinen. Ryhmä on kaikille avoin ja maksuton. Ennakkoilmoittautumista ei tarvita. Mukaan jumppaan tarvitset sisäliikuntavarusteet\, sisätossut\, juomapullo\, mukaan voi ottaa myös oman jumppa-alustan. \nTiedustelut: Sari p. 040 085 1620 tai Tuija p. 050 350 0613
URL:https://valkealanlatu.fi/tapahtumat/venytellen-vetreaksi-jumpparyhma-43/
LOCATION:Valkealan kirkonkylän urheilukentän huoltorakennus\, Toikkalantie 5\, Valkeala\, Kymenlaakso\, 45370\, Suomi
CATEGORIES:Jumppa
END:VEVENT
BEGIN:VEVENT
DTSTART;TZID=Europe/Helsinki:20200324T180000
DTEND;TZID=Europe/Helsinki:20200324T190000
DTSTAMP:20260424T023834
CREATED:20200104T163429Z
LAST-MODIFIED:20200313T190005Z
UID:1148-1585072800-1585076400@valkealanlatu.fi
SUMMARY:Venytellen vetreäksi -jumpparyhmä RYHMÄ PERUTTU!
DESCRIPTION:Venytellen vetreäksi -jumpparyhmä kokoontuu tiistaisin klo 18 Valkealan kirkonkylän urheilukentän huoltorakennuksella. Ryhmän ohjaajina toimivat vuoroviikoin Sari Haimi ja Tuija Puustinen. Ryhmä on kaikille avoin ja maksuton. Ennakkoilmoittautumista ei tarvita. Mukaan jumppaan tarvitset sisäliikuntavarusteet\, sisätossut\, juomapullo\, mukaan voi ottaa myös oman jumppa-alustan. \nTiedustelut: Sari p. 040 085 1620 tai Tuija p. 050 350 0613
URL:https://valkealanlatu.fi/tapahtumat/venytellen-vetreaksi-jumpparyhma-44/
LOCATION:Valkealan kirkonkylän urheilukentän huoltorakennus\, Toikkalantie 5\, Valkeala\, Kymenlaakso\, 45370\, Suomi
CATEGORIES:Jumppa
END:VEVENT
BEGIN:VEVENT
DTSTART;TZID=Europe/Helsinki:20200331T180000
DTEND;TZID=Europe/Helsinki:20200331T190000
DTSTAMP:20260424T023834
CREATED:20200104T163546Z
LAST-MODIFIED:20200313T190031Z
UID:1150-1585677600-1585681200@valkealanlatu.fi
SUMMARY:Venytellen vetreäksi -jumpparyhmä RYHMÄ PERUTTU!
DESCRIPTION:Venytellen vetreäksi -jumpparyhmä kokoontuu tiistaisin klo 18 Valkealan kirkonkylän urheilukentän huoltorakennuksella. Ryhmän ohjaajina toimivat vuoroviikoin Sari Haimi ja Tuija Puustinen. Ryhmä on kaikille avoin ja maksuton. Ennakkoilmoittautumista ei tarvita. Mukaan jumppaan tarvitset sisäliikuntavarusteet\, sisätossut\, juomapullo\, mukaan voi ottaa myös oman jumppa-alustan. \nTiedustelut: Sari p. 040 085 1620 tai Tuija p. 050 350 0613
URL:https://valkealanlatu.fi/tapahtumat/venytellen-vetreaksi-jumpparyhma-45/
LOCATION:Valkealan kirkonkylän urheilukentän huoltorakennus\, Toikkalantie 5\, Valkeala\, Kymenlaakso\, 45370\, Suomi
CATEGORIES:Jumppa
END:VEVENT
BEGIN:VEVENT
DTSTART;TZID=Europe/Helsinki:20200403T210000
DTEND;TZID=Europe/Helsinki:20200411T210000
DTSTAMP:20260424T023834
CREATED:20200104T140816Z
LAST-MODIFIED:20200325T151143Z
UID:1123-1585947600-1586638800@valkealanlatu.fi
SUMMARY:Hiihtomatka Ylläkselle (vko 15) PERUTTU KORONAEPIDEMIAN VUOKSI!
DESCRIPTION:Valkealan Latu ry järjestää hiihtomatkan Ylläkselle 3.-11.4.2020 (vko 15). Tiedustelut ja varaukset: Tuija Puustinen p. 050 350 0613 klo 17 jälkeen tai sähköpostitse: puustinentuija@gmail.com.
URL:https://valkealanlatu.fi/tapahtumat/hiihtomatka-yllakselle-vko-15/
LOCATION:Ylläs\,  \, Äkäslompolo\, 95970\, Suomi
CATEGORIES:Hiihto
END:VEVENT
BEGIN:VEVENT
DTSTART;TZID=Europe/Helsinki:20200822T090000
DTEND;TZID=Europe/Helsinki:20200822T163000
DTSTAMP:20260424T023834
CREATED:20200722T060008Z
LAST-MODIFIED:20200715T124230Z
UID:1196-1598086800-1598113800@valkealanlatu.fi
SUMMARY:Jäsenmatka 22.8.2020
DESCRIPTION:Valkealan Latu ry järjestää jäsenmatkan Lappeenrantaan lauantaina 22.8.2020. Matkalla tutustutaan hiekkalinnaan ja tehdään 2 tuntinen kanavaristeily Saimaalle m/s Camillalla.\n\nLähtö Valkealan ABC:ltä klo 9:00. Paluu ABC:lle noin klo 16:30.\n\nSitovat ilmoittautumiset 9.8.2020 mennessä Leena Ravantille p. 040 522 5740.\n\nMatkalle mahtuu mukaan 35 ensimmäisenä ilmoittautunutta. Valkealan Latu ry tarjoaa jäsenilleen ilmaisen bussikuljetuksen ja risteilyn.
URL:https://valkealanlatu.fi/tapahtumat/jasenmatka-22-8-2020/
LOCATION:Lappeenranta\, Lappeenranta\, Suomi
CATEGORIES:Jäsenmatka
END:VEVENT
BEGIN:VEVENT
DTSTART;TZID=Europe/Helsinki:20200901T180000
DTEND;TZID=Europe/Helsinki:20200901T190000
DTSTAMP:20260424T023834
CREATED:20200831T073608Z
LAST-MODIFIED:20200831T073608Z
UID:1203-1598983200-1598986800@valkealanlatu.fi
SUMMARY:Venytellen vetreäksi -jumpparyhmä
DESCRIPTION:Venytellen vetreäksi -jumpparyhmä kokoontuu tiistaisin klo 18 Valkealan kirkonkylän urheilukentän lähimaastossa. Vallitsevasta Covid-19 tilanteesta johtuen ryhmä liikkuu toistaiseksi ulkona sauvakävellen. Ryhmän ohjaajina toimivat vuoroviikoin Sari Haimi ja Tuija Puustinen. Ryhmä on kaikille avoin ja maksuton. Ennakkoilmoittautumista ei tarvita. Tervetuloa mukaan liikkumaan!
URL:https://valkealanlatu.fi/tapahtumat/venytellen-vetreaksi-jumpparyhma-46/
LOCATION:Valkealan kirkonkylän urheilukentän huoltorakennus\, Toikkalantie 5\, Valkeala\, Kymenlaakso\, 45370\, Suomi
END:VEVENT
BEGIN:VEVENT
DTSTART;TZID=Europe/Helsinki:20200904T210000
DTEND;TZID=Europe/Helsinki:20200912T210000
DTSTAMP:20260424T023834
CREATED:20200104T164319Z
LAST-MODIFIED:20200723T192232Z
UID:1154-1599253200-1599944400@valkealanlatu.fi
SUMMARY:Ruskamatka Saariselälle VIELÄ MUUTAMIA PAIKKOJA VAPAANA!
DESCRIPTION:Ruskamatka Saariselälle (vko 37) 4.-12.9.2020. Matkalle on vielä muutamia paikkoja vapaina.\nTiedustelut ja varaukset: Tuija Puustinen p. 050 350 0613 klo 17 jälkeen tai\nsähköpostitse: puustinentuija@gmail.com.
URL:https://valkealanlatu.fi/tapahtumat/ruskamatka-saariselalle-4/
CATEGORIES:Patikointi
END:VEVENT
BEGIN:VEVENT
DTSTART;TZID=Europe/Helsinki:20200908T180000
DTEND;TZID=Europe/Helsinki:20200908T190000
DTSTAMP:20260424T023834
CREATED:20200831T073923Z
LAST-MODIFIED:20200831T073923Z
UID:1205-1599588000-1599591600@valkealanlatu.fi
SUMMARY:Venytellen vetreäksi -jumpparyhmä
DESCRIPTION:Venytellen vetreäksi -jumpparyhmä kokoontuu tiistaisin klo 18 Valkealan kirkonkylän urheilukentän lähimaastossa. Vallitsevasta Covid-19 tilanteesta johtuen ryhmä liikkuu toistaiseksi ulkona sauvakävellen. Ryhmän ohjaajina toimivat vuoroviikoin Sari Haimi ja Tuija Puustinen. Ryhmä on kaikille avoin ja maksuton. Ennakkoilmoittautumista ei tarvita. Tervetuloa mukaan liikkumaan!
URL:https://valkealanlatu.fi/tapahtumat/venytellen-vetreaksi-jumpparyhma-47/
LOCATION:Valkealan kirkonkylän urheilukentän huoltorakennus\, Toikkalantie 5\, Valkeala\, Kymenlaakso\, 45370\, Suomi
END:VEVENT
BEGIN:VEVENT
DTSTART;TZID=Europe/Helsinki:20200915T180000
DTEND;TZID=Europe/Helsinki:20200915T190000
DTSTAMP:20260424T023834
CREATED:20200831T074058Z
LAST-MODIFIED:20200831T074058Z
UID:1207-1600192800-1600196400@valkealanlatu.fi
SUMMARY:Venytellen vetreäksi -jumpparyhmä
DESCRIPTION:Venytellen vetreäksi -jumpparyhmä kokoontuu tiistaisin klo 18 Valkealan kirkonkylän urheilukentän lähimaastossa. Vallitsevasta Covid-19 tilanteesta johtuen ryhmä liikkuu toistaiseksi ulkona sauvakävellen. Ryhmän ohjaajina toimivat vuoroviikoin Sari Haimi ja Tuija Puustinen. Ryhmä on kaikille avoin ja maksuton. Ennakkoilmoittautumista ei tarvita. Tervetuloa mukaan liikkumaan!
URL:https://valkealanlatu.fi/tapahtumat/venytellen-vetreaksi-jumpparyhma-48/
LOCATION:Valkealan kirkonkylän urheilukentän huoltorakennus\, Toikkalantie 5\, Valkeala\, Kymenlaakso\, 45370\, Suomi
END:VEVENT
END:VCALENDAR